BEGIN:VCALENDAR
VERSION:2.0
PRODID:-//Berkshire Artistree - ECPv6.15.20//NONSGML v1.0//EN
CALSCALE:GREGORIAN
METHOD:PUBLISH
X-WR-CALNAME:Berkshire Artistree
X-ORIGINAL-URL:https://berkshireartistree.co.uk
X-WR-CALDESC:Events for Berkshire Artistree
REFRESH-INTERVAL;VALUE=DURATION:PT1H
X-Robots-Tag:noindex
X-PUBLISHED-TTL:PT1H
BEGIN:VTIMEZONE
TZID:UTC
BEGIN:STANDARD
TZOFFSETFROM:+0000
TZOFFSETTO:+0000
TZNAME:UTC
DTSTART:20250101T000000
END:STANDARD
END:VTIMEZONE
BEGIN:VEVENT
DTSTART;TZID=UTC:20260326T200000
DTEND;TZID=UTC:20260326T233000
DTSTAMP:20260423T235956
CREATED:20251124T135108Z
LAST-MODIFIED:20251124T135108Z
UID:10009319-1774555200-1774567800@berkshireartistree.co.uk
SUMMARY:Open Mic at The Newbury Pub & Terrace\, Newbury
DESCRIPTION:Open Mic at The Newbury Pub & Terrace\, Newbury\nhosted by Sion Whiley \n• Every Thursday \nOpen Mic at The Newbury Inn\, Newbury. Celebrating over 100 weekly open mic’s in Newbury hotspot\, the Newbury Pub & Terrace. Hosted by the fantastic Sion Whiley\, a local talent who fosters acts onto stage and is very welcoming to new talent! The open mic is held upstairs and in the summer months it moves outside to their tidy outdoor terrace to enjoy some sunshine! Sion is available for contact on the link below. See the venue and organiser links below for more details. \nFor more live music in Berkshire visit BerkshireArtistree.co.uk/live-music-events
URL:https://berkshireartistree.co.uk/live-music-event/open-mic-at-the-newbury-pub-terrace-newbury-2/2026-03-26/
LOCATION:The Newbury Pub & Roof terrace\, 137 Bartholomew St\, Newbury\, RG14 5HB\, United Kingdom
CATEGORIES:Open mic
ATTACH;FMTTYPE=image/jpeg:https://berkshireartistree.co.uk/wp-content/uploads/2024/05/The-Newbury-Inn_Berkshire-Artistree-1.jpeg
END:VEVENT
BEGIN:VEVENT
DTSTART;TZID=UTC:20260326T200000
DTEND;TZID=UTC:20260326T223000
DTSTAMP:20260423T235956
CREATED:20250328T080543Z
LAST-MODIFIED:20260206T121124Z
UID:10008097-1774555200-1774564200@berkshireartistree.co.uk
SUMMARY:Original Live Music at The Butler\, Reading
DESCRIPTION:Original Live Music at The Butler\, Reading \nhosted by Nicole Allan \n• Every Last Thursday \n\nOriginal Live Music Night\, run by Nicole Allan\, is a welcoming open mic that celebrates original music and creative expression. This free-entry live music night invites songwriters and performers to step on stage\, share their original material\, and connect with a supportive live audience. From the very first note\, the focus is on authenticity\, creativity\, and community. \nDue to growing demand\, the format has evolved into a relaxed\, unplanned open mic where anyone can arrive on the night and perform. As a result\, artists are encouraged to try new songs\, workshop fresh ideas\, and test material in front of fellow musicians and music lovers. Meanwhile\, audiences are invited to support the performers directly\, with tipping encouraged for each set. \nAdditionally\, this original live music night has become a valuable networking space. Emerging artists can meet peers\, discover new talent\, and learn by watching experienced songwriters perform their craft live. However\, the atmosphere remains inclusive and low-pressure\, making it an ideal setting for first-time performers as well as seasoned musicians. \nFinally\, whether you’re an artist looking to share your music or a listener eager to hear something new\, this open mic offers a genuine live music experience rooted in creativity and connection. For further details\, including venue information and organiser updates\, see the venue and organiser pages below! \n\nFor more live music in Berkshire visit our events page.
URL:https://berkshireartistree.co.uk/live-music-event/original-live-music-at-the-butler-reading/2026-03-26/
LOCATION:The Butler\, Reading\, 85-91 Chatham St\, Reading\, RG1 7DS
CATEGORIES:Original Music
ATTACH;FMTTYPE=image/jpeg:https://berkshireartistree.co.uk/wp-content/uploads/2025/03/The-Butler_Reading_Original-live-music-.jpg
END:VEVENT
BEGIN:VEVENT
DTSTART;TZID=UTC:20260326T200000
DTEND;TZID=UTC:20260326T220000
DTSTAMP:20260423T235956
CREATED:20260217T174857Z
LAST-MODIFIED:20260217T174946Z
UID:10009460-1774555200-1774562400@berkshireartistree.co.uk
SUMMARY:Open Mic at The Swan\, Three Mile Cross
DESCRIPTION:Open Mic at The Swan\, Three Mile Cross  \nFocus Keyphrase: Joe Bingham at The Swan \nExperience the energy of live music with Joe Bingham at The Swan\, a fresh Open Mic night at The Swan in Three Mile Cross\, Reading. This new Open Mic at The Swan invites music lovers and performers alike to gather in a welcoming\, community-driven setting. With Joe Bingham leading the night\, audiences can expect an authentic showcase of musicianship in an intimate pub atmosphere designed for real connection and raw talent. \nJoe Bingham live at The Swan Open Mic\nAs a performer\, Joe Bingham brings heartfelt vocals and expressive songwriting that shine in a stripped-back live setting. His sound blends melodic acoustic textures with engaging storytelling\, creating a set that feels both personal and uplifting. Meanwhile\, the Open Mic format keeps the evening dynamic\, with emerging artists stepping up to share original songs and crowd favourites. As a result\, every performance feels spontaneous and alive. \nThe Swan provides the perfect backdrop for this live music experience. Known for its warm interiors and relaxed charm\, the venue offers a range of beers and a great menu. Additionally\, its reputation as a local gathering spot makes it ideal for discovering new talent while enjoying a great night out. \nFor more open mics in Berkshire\, visit our events page
URL:https://berkshireartistree.co.uk/live-music-event/open-mic-at-the-swan-three-mile-cross/2026-03-26/
LOCATION:The Swan\, Three Mile Cross\, Basingstoke Rd\, Reading\, RG7 1AT\, United Kingdom
CATEGORIES:Open mic
ATTACH;FMTTYPE=image/jpeg:https://berkshireartistree.co.uk/wp-content/uploads/2026/02/Open-mic-at-The-Swan_Three-mile-Cross.jpg
END:VEVENT
BEGIN:VEVENT
DTSTART;TZID=UTC:20260326T193000
DTEND;TZID=UTC:20260326T220000
DTSTAMP:20260423T235956
CREATED:20251124T135027Z
LAST-MODIFIED:20251124T135028Z
UID:10009307-1774553400-1774562400@berkshireartistree.co.uk
SUMMARY:Open Mic at The Victoria Arms\, Wokingham
DESCRIPTION:Open Mic at The Victoria Arms\, Wokingham\nhosted by The Victoria Arms \n• Every Thursday \nOpen mic at the Victoria Arms\, located on the far side of Wokingham on Easthampstead Road. The night is one every week and anyone is welcome to play! See the venue and organiser links below for more details. \nFor more live music in Berkshire visit BerkshireArtistree.co.uk/live-music-events
URL:https://berkshireartistree.co.uk/live-music-event/open-mic-at-the-victoria-arms-wokingham-7-2/2026-03-26/
LOCATION:The Victoria Arms\, 1 Easthampstead Rd\, Wokgingham\, RG40 2EH\, United Kingdom
CATEGORIES:live music wokingham,Open mic
ATTACH;FMTTYPE=image/jpeg:https://berkshireartistree.co.uk/wp-content/uploads/2024/10/Open-Mic-at-The-Victoria-Arms_Wokingham_Berkshire-Artistree.jpg
END:VEVENT
BEGIN:VEVENT
DTSTART;TZID=UTC:20260326T190000
DTEND;TZID=UTC:20260326T220000
DTSTAMP:20260423T235956
CREATED:20260327T103646Z
LAST-MODIFIED:20260327T104047Z
UID:10009787-1774551600-1774562400@berkshireartistree.co.uk
SUMMARY:Open Mic In Windsor | Windsor & Eton Brewery
DESCRIPTION:Open mic night hosted by Windsor Music at Windsor and Eton Brewery brings an inviting platform for emerging and established performers alike. \n• Every other Thursday \nKey Points➖ Hosted by Windsor Music\, known for supporting grassroots live talent➖ Open mic format welcoming musicians\, singers\, and acoustic acts➖ Intimate brewery setting with a relaxed\, creative atmosphere➖ Ideal for testing new material or enjoying diverse live performances➖ To book a slot: email unit4@webrew.co.uk or call 01753854075 \nWindsor Music Open Mic at Windsor and Eton Brewery\nOpen Mic at the brewery offers a range of locally brewed beers and ales\, as well as serving pizza and other snacks. Performers can step up and share original songs\, covers\, or stripped-back sets in front of an attentive\, music-loving crowd. As a result\, the night often delivers a rich mix of styles\, from acoustic folk to indie\, soul\, and beyond. Whether you’re refining your craft or performing for the first time\, this welcoming environment encourages authentic expression and genuine connection. \nMeanwhile\, Windsor & Eton Brewery provides the perfect backdrop. Known for its laid-back brewery atmosphere and carefully crafted drinks\, the venue creates a comfortable environment where both artists and audiences can unwind. The intimate layout ensures every performance feels personal\, while the ambient buzz of conversation and clinking glasses adds to the night’s charm. \nUltimately\, this open mic is more than just a showcase—it’s a hub for local talent and music enthusiasts. With each set bringing something new\, audiences can expect an engaging and unpredictable evening. If you’re looking to perform or simply soak up live music in a relaxed setting\, this is a standout choice worth experiencing. \nFor more live music check out Berkshireartistree.co.uk/live-music-events/
URL:https://berkshireartistree.co.uk/live-music-event/open-mic-in-windsor-windsor-eton-brewery/2026-03-26/
LOCATION:Windsor and Eton Brewery\, Windsor\, 1-4 Vansittart Estate\, Duke St\,\, Windsor\, SL4 1SE
CATEGORIES:Open mic
ATTACH;FMTTYPE=image/jpeg:https://berkshireartistree.co.uk/wp-content/uploads/2026/03/windsor-and-eton-brewery_windsor.jpg
END:VEVENT
BEGIN:VEVENT
DTSTART;TZID=UTC:20260326T190000
DTEND;TZID=UTC:20260326T210000
DTSTAMP:20260423T235956
CREATED:20260221T154432Z
LAST-MODIFIED:20260225T160930Z
UID:10009496-1774551600-1774558800@berkshireartistree.co.uk
SUMMARY:Live music at MUSICA\, Bracknell | Isobel Thatcher
DESCRIPTION:Live Music at MUSICA\, Bracknell\nWith Isobel Thatcher performing live \nIsobel brings blues-tinged country Americana with warm\, soulful vocals. Mixing originals with carefully chosen covers (inspired by artists like Bonnie Raitt\, Eva Cassidy\, Sheryl Crow and Brad Paisley)\, she creates a laid-back\, heartfelt acoustic atmosphere. See more information on the organiser link below\, or visit the venue link to see more about MUSICA\, Bracknell. \nFor more live music in Berkshire visit BerkshireArtistree.co.uk/live-music-events
URL:https://berkshireartistree.co.uk/live-music-event/live-music-at-musica-bracknell-isobel-thatcher/
LOCATION:Live music in Bracknell | MUSICA\, 3 Eagle Ln\, Bracknell\, RG12 1BG
CATEGORIES:Live Music
ATTACH;FMTTYPE=image/jpeg:https://berkshireartistree.co.uk/wp-content/uploads/2026/02/Isobelle-Thatcher_live-music_singer.jpeg
END:VEVENT
BEGIN:VEVENT
DTSTART;TZID=UTC:20260325T203000
DTEND;TZID=UTC:20260325T223000
DTSTAMP:20260423T235956
CREATED:20241016T215208Z
LAST-MODIFIED:20241120T180602Z
UID:10009136-1774470600-1774477800@berkshireartistree.co.uk
SUMMARY:Open Mic at The Golden Cross\, Twyford
DESCRIPTION:Open Mic at The Golden Cross\, Twyford\nhosted by Damian Delahunty \n• Every Wednesday \nOpen Mic down at the Golden Cross in Twyford\, run by seasoned musician Damian Delahunty. Nice intimate space with a listening audeince\, great to network with other musicians. The venue has parking and will lend his guitar if you ask nicely! See the venue and organiser links below for more details. \nFor more live music in Berkshire visit BerkshireArtistree.co.uk/live-music-events
URL:https://berkshireartistree.co.uk/live-music-event/open-mic-at-the-golden-cross-twyford-29/2026-03-25/
LOCATION:The Golden Cross\, Twyford\, 8 Waltham Rd\, Twyford\, Reading\, RG10 9EG\, United Kingdom
CATEGORIES:live music twyford,live music wokingham,Open mic
ATTACH;FMTTYPE=image/jpeg:https://berkshireartistree.co.uk/wp-content/uploads/2024/04/Golden-Cross_open-mic-night_Berkshire-Artistree.jpeg
END:VEVENT
BEGIN:VEVENT
DTSTART;TZID=UTC:20260325T200000
DTEND;TZID=UTC:20260325T230000
DTSTAMP:20260423T235956
CREATED:20260204T131501Z
LAST-MODIFIED:20260207T235126Z
UID:10009382-1774468800-1774479600@berkshireartistree.co.uk
SUMMARY:Open Mic night at The Old Court Arts Centre\, Windsor
DESCRIPTION:Open Mic night at The Old Court Arts Centre\, Windsor \n• Every Wednesday \nAn inviting midweek tradition returns with Open Mic at Old Court Arts Centre\, offering a welcoming stage for musicians\, poets\, storytellers\, and spoken-word performers in the heart of Windsor. Set within this much-loved local venue\, the night creates space for creativity to unfold naturally. Whether you are sharing new material or discovering emerging local talent\, the atmosphere feels open\, relaxed\, and supportive from the start. \nFrom the moment the doors open\, the room carries a sense of possibility. Meanwhile\, performers of all experience levels are encouraged to step forward and take part. An attentive audience supports each act\, while the venue’s long-standing commitment to artistic expression sets the tone. The evening moves at an easy pace\, giving every performer time to connect with the room. As a result\, each session feels unique\, shaped by the voices\, sounds\, and stories that appear on the night. \nOpen Mic at Old Court Arts Centre is as much about listening as it is about performing. Additionally\, the venue’s warm acoustics and informal layout help remove barriers between stage and audience. Creative risks feel welcome here\, and performers often respond directly to the energy in the room. Acoustic songs\, thoughtful monologues\, and moments of improvisation all find a natural home\, with live expression always at the centre. \nFinally\, for anyone seeking a genuine\, community-led music and performance experience\, Open Mic at Old Court Arts Centre remains a consistent highlight. Come to perform\, come to support others\, or simply come to be surprised by what unfolds live on stage. \nFor more live music in Berkshire visit our events page.
URL:https://berkshireartistree.co.uk/live-music-event/open-mic-night-at-the-old-court-arts-centre-windsor/2026-03-25/
LOCATION:Old Courts Arts Centre\, Windsor\, The Old Court\, St Leonard's Road\,\,\, Windsor\, SL4 3BL
CATEGORIES:Open mic
ATTACH;FMTTYPE=image/png:https://berkshireartistree.co.uk/wp-content/uploads/2026/02/Screenshot-2026-02-04-at-12.49.16-e1770210956574.png
END:VEVENT
BEGIN:VEVENT
DTSTART;TZID=UTC:20260325T200000
DTEND;TZID=UTC:20260325T220000
DTSTAMP:20260423T235956
CREATED:20241016T215123Z
LAST-MODIFIED:20251012T122558Z
UID:10009135-1774468800-1774476000@berkshireartistree.co.uk
SUMMARY:Bohemian night at The Fisherman's cottage\, Reading
DESCRIPTION:Bohemian night at The Fisherman’s cottage\, Reading\nhosted by Rob Sowden \n• Every Wednesday \nEvery Wednesday down at the Fisherman’s Cottage in Reading\, Rob Sowden runs his famous bohemian open mic night. Situated down by the river\, boho night has a great reputation amongst the local musicians to welcome new acts and a great opportunity to network with other artists\, poets\, comedians and other diverse acts. Rob himself is an excellent musician\, who plays regularly and runs a number of open mic night around Reading. See the venue and organiser links below for more details. \nFor more live music in Berkshire visit BerkshireArtistree.co.uk/live-music-events
URL:https://berkshireartistree.co.uk/live-music-event/bohemian-night-at-the-fishermans-cottage-reading/2026-03-25/
LOCATION:The Fisherman’s Cottage\, Kennet Side\, Reading\, RG1 3DW\, United Kingdom
CATEGORIES:Open mic
ATTACH;FMTTYPE=image/png:https://berkshireartistree.co.uk/wp-content/uploads/2024/04/Fishermans-cottage_open-mic_boho-night_Berkshire-Artistree.png
END:VEVENT
BEGIN:VEVENT
DTSTART;TZID=UTC:20260325T190000
DTEND;TZID=UTC:20260325T213000
DTSTAMP:20260423T235956
CREATED:20241030T081720Z
LAST-MODIFIED:20241120T172211Z
UID:10009129-1774465200-1774474200@berkshireartistree.co.uk
SUMMARY:Artist Link-Up at The Rising Sun Arts Centre\, Reading
DESCRIPTION:Artist Link-Up at The Rising Sun Arts Centre\, Reading\nhosted by Only Adz \n• Every Wednesday \nArtist Link-Up is a great networking event for producers\, rappers\, artists and poets of all levels. Run by local artist Only Adz\, this event attracts more hip-hop and R&B style artists. See the venue and organiser links below for more details. \nFor more live music in Berkshire visit BerkshireArtistree.co.uk/live-music-events
URL:https://berkshireartistree.co.uk/live-music-event/artist-link-up-at-the-rising-sun-arts-centre-reading/2026-03-25/
LOCATION:The Rising Sun Arts Centre\, Reading\, 30 Silver St\, Reading\, RG1 2ST\, United Kingdom
ATTACH;FMTTYPE=image/jpeg:https://berkshireartistree.co.uk/wp-content/uploads/2024/04/Artist-Link-Up_Berkshire-Artistree_2.jpeg
END:VEVENT
BEGIN:VEVENT
DTSTART;TZID=UTC:20260324T193000
DTEND;TZID=UTC:20260324T220000
DTSTAMP:20260423T235956
CREATED:20260213T151248Z
LAST-MODIFIED:20260213T152532Z
UID:10009428-1774380600-1774389600@berkshireartistree.co.uk
SUMMARY:Spoken word poetry in Iver | The Whip and Collar
DESCRIPTION:Spoken word poetry in Iver\nExperience a powerful night of live poetry as Joe Campling takes centre stage for an intimate spoken word performance. This special event places Joe at The Whip and Collar\, where rhythm\, language\, and lived experience meet a welcoming crowd. From the opening piece\, this event sets a confident tone that draws listeners in and holds them there. \nThe Whip and Collar: Live Spoken Word in an Intimate Setting\nJoe Campling delivers poetry with clarity\, presence\, and purpose. He shapes each line with natural flow\, then builds momentum through sharp observation and emotional honesty. As a result\, the room feels connected and alert. His work moves between humour and reflection\, while his delivery keeps the audience engaged from start to finish. Because he performs with direct eye contact and steady pacing\, every word lands with impact. \nMeanwhile\, The Whip and Collar provides the ideal backdrop for spoken word. Its cosy interior and close layout bring performer and audience together. Therefore\, the atmosphere feels personal rather than distant. Listeners respond in the moment\, and that shared energy becomes part of the experience. Additionally\, the venue’s character adds warmth and texture to the evening. \nFor anyone seeking thoughtful live performance\, Joe offers spoken word at its most immediate. Expect vivid storytelling\, authentic expression\, and a night shaped by language and connection at The Whip and Collar. \n\nFor more events visit our events calendar!
URL:https://berkshireartistree.co.uk/live-music-event/spoken-word-poetry-in-iver-the-whip-and-collar/2026-03-24/
LOCATION:The Whip and Collar\, 135 Swallow St\, Iver\, SL0 0HU\, United Kingdom
ATTACH;FMTTYPE=image/webp:https://berkshireartistree.co.uk/wp-content/uploads/2026/02/whip-collar-iver-heath-sign.webp
END:VEVENT
BEGIN:VEVENT
DTSTART;TZID=UTC:20260323T203000
DTEND;TZID=UTC:20260323T230000
DTSTAMP:20260423T235956
CREATED:20241122T165053Z
LAST-MODIFIED:20250201T133250Z
UID:10009127-1774297800-1774306800@berkshireartistree.co.uk
SUMMARY:Open Mic night at GOGOS\, Windsor
DESCRIPTION:Open Mic night at GOGOS\, Windsor \nHosted by Damian Delahunty \n• Every Monday \nGOGOs Waterfront bar hosts their weekly open mic in Windsor\, led by the fantastic Damian. They have a superb spot down by the marina\, welcoming talent of all levels and have a great supportive environment! Damian runs a whole host open open mics\, for more live music in Berkshire visit BerkshireArtistree.co.uk/live-music-events
URL:https://berkshireartistree.co.uk/live-music-event/open-mic-night-at-gogos-windsor/2026-03-23/
LOCATION:GOGOS Waterfront Bar\, Racecourse Marina\, Maidenhead Rd\, Windsor\, SL4 5HT\, United Kingdom
CATEGORIES:Live music Windsor,Open mic
ATTACH;FMTTYPE=image/jpeg:https://berkshireartistree.co.uk/wp-content/uploads/2024/11/open-mic-windsor_Gogos_live-music_windsor_Berkshire-Artistree.jpg
END:VEVENT
END:VCALENDAR