BEGIN:VCALENDAR
VERSION:2.0
PRODID:-//Berkshire Artistree - ECPv6.15.20//NONSGML v1.0//EN
CALSCALE:GREGORIAN
METHOD:PUBLISH
X-WR-CALNAME:Berkshire Artistree
X-ORIGINAL-URL:https://berkshireartistree.co.uk
X-WR-CALDESC:Events for Berkshire Artistree
REFRESH-INTERVAL;VALUE=DURATION:PT1H
X-Robots-Tag:noindex
X-PUBLISHED-TTL:PT1H
BEGIN:VTIMEZONE
TZID:UTC
BEGIN:STANDARD
TZOFFSETFROM:+0000
TZOFFSETTO:+0000
TZNAME:UTC
DTSTART:20250101T000000
END:STANDARD
END:VTIMEZONE
BEGIN:VEVENT
DTSTART;TZID=UTC:20260416T200000
DTEND;TZID=UTC:20260416T223000
DTSTAMP:20260423T221612
CREATED:20250315T114500Z
LAST-MODIFIED:20260218T153818Z
UID:10009219-1776369600-1776378600@berkshireartistree.co.uk
SUMMARY:Open Mic at The Mad Squirrel\, High Wycombe
DESCRIPTION:Open Mic at The Mad Squirrel\, High Wycombe\nhosted by Andy Barrett \n\n\n\n\n\n\n\n\n\n\nOpen Mic at the Mad Squirrel is a standout live music night in the heart of High Wycombe. Located on the high street and run by Andy Barrett\, this popular event has quickly become a key date in the local music calendar. Over the past year\, Open Mic at the Mad Squirrel has grown into one of the town’s most respected grassroots showcases. As a result\, performers and audiences alike return week after week for an evening built on creativity and connection. \nWhy Open Mic at the Mad Squirrel Leads High Wycombe’s Live Scene\nEvery Open Mic at the Mad Squirrel delivers a welcoming and supportive atmosphere. First-time performers share the stage with experienced musicians\, and each act receives genuine attention from an engaged crowd. Because the night values inclusivity\, talent of all levels feels encouraged to take part. Meanwhile\, the variety of styles keeps the energy fresh and unpredictable. \nIn addition\, the venue itself plays a vital role in the event’s success. Its central location makes it easy to attend\, and its intimate setting ensures that every lyric and chord carries impact. The friendly community that surrounds Open Mic at the Mad Squirrel creates a safe space for experimentation and growth. Consequently\, many local artists now see it as a trusted platform to refine their sound and build confidence. \nFor anyone searching for authentic live music in High Wycombe\, this is the place to be. Open Mic at the Mad Squirrel continues to strengthen the town’s creative scene while offering unforgettable live performances in a truly community-driven setting. \n\n\n\n\n\n\n\n\n\n  \nFor more live music in Berkshire visit BerkshireArtistree.co.uk/live-music-events
URL:https://berkshireartistree.co.uk/live-music-event/open-mic-at-the-mad-squirrel-high-wycombe-2/2026-04-16/
LOCATION:Mad Squirrel\, High Wycombe\, 4-5 Church St\, High Wycombe\, HP11 2DE
CATEGORIES:Open mic
ATTACH;FMTTYPE=image/jpeg:https://berkshireartistree.co.uk/wp-content/uploads/2024/12/open-mic_mad-squirrel_high-wycombe-e1737893877386.jpg
END:VEVENT
END:VCALENDAR