BEGIN:VCALENDAR
VERSION:2.0
PRODID:-//Berkshire Artistree - ECPv6.15.20//NONSGML v1.0//EN
CALSCALE:GREGORIAN
METHOD:PUBLISH
X-WR-CALNAME:Berkshire Artistree
X-ORIGINAL-URL:https://berkshireartistree.co.uk
X-WR-CALDESC:Events for Berkshire Artistree
REFRESH-INTERVAL;VALUE=DURATION:PT1H
X-Robots-Tag:noindex
X-PUBLISHED-TTL:PT1H
BEGIN:VTIMEZONE
TZID:UTC
BEGIN:STANDARD
TZOFFSETFROM:+0000
TZOFFSETTO:+0000
TZNAME:UTC
DTSTART:20250101T000000
END:STANDARD
END:VTIMEZONE
BEGIN:VEVENT
DTSTART;TZID=UTC:20260807T200000
DTEND;TZID=UTC:20260807T230000
DTSTAMP:20260423T235509
CREATED:20241016T215152Z
LAST-MODIFIED:20260121T143637Z
UID:10009230-1786132800-1786143600@berkshireartistree.co.uk
SUMMARY:Open Mic night at The Club Bar and Lounge\, Newbury
DESCRIPTION:Open Mic night at The Club Bar and Lounge\, Newbury\nhosted by Zoe Badman \n• Every 1st Friday \n\n\n\n\n\n\n\nA family-friendly open mic hosted by Zoe Badman at The Club Bar & Lounge creates an inviting space for creativity\, confidence\, and community. This Zoe Badman at The Club Bar & Lounge event is designed to welcome performers of all ages and abilities\, while keeping the atmosphere relaxed\, supportive\, and inclusive from start to finish. \nAs host\, Zoe Badman brings clarity and warmth to the evening. She guides the open mic with calm introductions and smooth transitions. As a result\, performers feel supported the moment they step on stage. Meanwhile\, her encouraging presence helps first-time artists settle quickly. More experienced performers also benefit from the clear structure and respectful pacing. Overall\, the night feels organised without losing its friendly\, open feel. \nThe setting strengthens that experience. The Club Bar & Lounge offers an intimate layout that encourages attentive listening. Additionally\, its comfortable atmosphere suits a family-friendly open mic\, where audiences can focus on the performers. The venue’s commitment to live culture ensures the emphasis stays on creativity\, participation\, and shared enjoyment. \nFor those interested in Zoe Badman at The Club Bar & Lounge\, this open mic stands out as a welcoming way to experience local talent. Finally\, it offers a chance to enjoy live performance in a space that values positivity and inclusion. \n\n\n\n\n\n\n\nFor more live music in Berkshire visit BerkshireArtistree.co.uk/live-music-events
URL:https://berkshireartistree.co.uk/live-music-event/open-mic-night-at-the-club-bar-and-lounge-newbury/2026-08-07/
LOCATION:Club Bar and Lounge\, Newbury\, 5 Cheap St\,\, Newbury\, RG14 5DD
CATEGORIES:live music newbury,Open mic
ATTACH;FMTTYPE=image/jpeg:https://berkshireartistree.co.uk/wp-content/uploads/2024/04/Club-Bar-and-lounge_-Newbury-Open-Mic_Berkshire-Artistree-e1769005946678.jpg
END:VEVENT
END:VCALENDAR