BEGIN:VCALENDAR
VERSION:2.0
PRODID:-//Berkshire Artistree - ECPv6.15.20//NONSGML v1.0//EN
CALSCALE:GREGORIAN
METHOD:PUBLISH
X-WR-CALNAME:Berkshire Artistree
X-ORIGINAL-URL:https://berkshireartistree.co.uk
X-WR-CALDESC:Events for Berkshire Artistree
REFRESH-INTERVAL;VALUE=DURATION:PT1H
X-Robots-Tag:noindex
X-PUBLISHED-TTL:PT1H
BEGIN:VTIMEZONE
TZID:UTC
BEGIN:STANDARD
TZOFFSETFROM:+0000
TZOFFSETTO:+0000
TZNAME:UTC
DTSTART:20250101T000000
END:STANDARD
END:VTIMEZONE
BEGIN:VEVENT
DTSTART;TZID=UTC:20260423T190000
DTEND;TZID=UTC:20260423T220000
DTSTAMP:20260423T193030
CREATED:20260327T103646Z
LAST-MODIFIED:20260327T104047Z
UID:10009767-1776970800-1776981600@berkshireartistree.co.uk
SUMMARY:Open Mic In Windsor | Windsor & Eton Brewery
DESCRIPTION:Open mic night hosted by Windsor Music at Windsor and Eton Brewery brings an inviting platform for emerging and established performers alike. \n• Every other Thursday \nKey Points➖ Hosted by Windsor Music\, known for supporting grassroots live talent➖ Open mic format welcoming musicians\, singers\, and acoustic acts➖ Intimate brewery setting with a relaxed\, creative atmosphere➖ Ideal for testing new material or enjoying diverse live performances➖ To book a slot: email unit4@webrew.co.uk or call 01753854075 \nWindsor Music Open Mic at Windsor and Eton Brewery\nOpen Mic at the brewery offers a range of locally brewed beers and ales\, as well as serving pizza and other snacks. Performers can step up and share original songs\, covers\, or stripped-back sets in front of an attentive\, music-loving crowd. As a result\, the night often delivers a rich mix of styles\, from acoustic folk to indie\, soul\, and beyond. Whether you’re refining your craft or performing for the first time\, this welcoming environment encourages authentic expression and genuine connection. \nMeanwhile\, Windsor & Eton Brewery provides the perfect backdrop. Known for its laid-back brewery atmosphere and carefully crafted drinks\, the venue creates a comfortable environment where both artists and audiences can unwind. The intimate layout ensures every performance feels personal\, while the ambient buzz of conversation and clinking glasses adds to the night’s charm. \nUltimately\, this open mic is more than just a showcase—it’s a hub for local talent and music enthusiasts. With each set bringing something new\, audiences can expect an engaging and unpredictable evening. If you’re looking to perform or simply soak up live music in a relaxed setting\, this is a standout choice worth experiencing. \nFor more live music check out Berkshireartistree.co.uk/live-music-events/
URL:https://berkshireartistree.co.uk/live-music-event/open-mic-in-windsor-windsor-eton-brewery/2026-04-23/
LOCATION:Windsor and Eton Brewery\, Windsor\, 1-4 Vansittart Estate\, Duke St\,\, Windsor\, SL4 1SE
CATEGORIES:Open mic
ATTACH;FMTTYPE=image/jpeg:https://berkshireartistree.co.uk/wp-content/uploads/2026/03/windsor-and-eton-brewery_windsor.jpg
END:VEVENT
BEGIN:VEVENT
DTSTART;TZID=UTC:20260423T203000
DTEND;TZID=UTC:20260423T230000
DTSTAMP:20260423T193030
CREATED:20250310T090745Z
LAST-MODIFIED:20251124T135140Z
UID:10009257-1776976200-1776985200@berkshireartistree.co.uk
SUMMARY:Open Mic at The Acre\, Windsor
DESCRIPTION:Open Mic at The Acre\, Windsor\nhosted by Damian Delahunty \n• Every Thursday \nDamian is a seasoned musician who will welcome all types of act to the stage and creates a very supportive environment. He actively encourages new acts to perform and will happily lend his guitar to you if you ask nicely! See Damian Delahunty for more details. \nFor more live music in Berkshire visit our events page.
URL:https://berkshireartistree.co.uk/live-music-event/open-mic-at-the-acre-windsor/2026-04-23/
LOCATION:The Acre\, Windsor\, Victoria St\, Windsor\, SL4 1EN\, United Kingdom
CATEGORIES:Live music Windsor,Open mic
ATTACH;FMTTYPE=image/jpeg:https://berkshireartistree.co.uk/wp-content/uploads/2025/03/Open-Mic_The-Acre_Windsor.jpg
END:VEVENT
END:VCALENDAR