BEGIN:VCALENDAR
VERSION:2.0
PRODID:-//Berkshire Artistree - ECPv6.15.20//NONSGML v1.0//EN
CALSCALE:GREGORIAN
METHOD:PUBLISH
X-WR-CALNAME:Berkshire Artistree
X-ORIGINAL-URL:https://berkshireartistree.co.uk
X-WR-CALDESC:Events for Berkshire Artistree
REFRESH-INTERVAL;VALUE=DURATION:PT1H
X-Robots-Tag:noindex
X-PUBLISHED-TTL:PT1H
BEGIN:VTIMEZONE
TZID:UTC
BEGIN:STANDARD
TZOFFSETFROM:+0000
TZOFFSETTO:+0000
TZNAME:UTC
DTSTART:20250101T000000
END:STANDARD
END:VTIMEZONE
BEGIN:VEVENT
DTSTART;TZID=UTC:20260419T140000
DTEND;TZID=UTC:20260419T170000
DTSTAMP:20260423T204210
CREATED:20260221T154415Z
LAST-MODIFIED:20260228T134045Z
UID:10009592-1776607200-1776618000@berkshireartistree.co.uk
SUMMARY:Live music at MUSICA\, Bracknell
DESCRIPTION:Live Music at MUSICA\, Bracknell \nHead down to Bracknell every Sunday\, for soulful vibes and smooth keys with classics\, favourites and feel-good tunes. Guests can request songs and vote for what comes next\, shaping the set as the afternoon unfolds. See more information on the organiser link below\, or visit the venue link to see more about MUSICA\, Bracknell. \nFor more live music in Berkshire visit BerkshireArtistree.co.uk/live-music-events
URL:https://berkshireartistree.co.uk/live-music-event/live-music-at-musica-bracknell-pauly/2026-04-19/
LOCATION:Musica\, Bracknell\, 3 Eagle Ln\, Bracknell\, RG12 1BG
CATEGORIES:Live Music
ATTACH;FMTTYPE=image/jpeg:https://berkshireartistree.co.uk/wp-content/uploads/2026/02/Musica_HD_live-music_Bracknell.jpeg
END:VEVENT
BEGIN:VEVENT
DTSTART;TZID=UTC:20260412T140000
DTEND;TZID=UTC:20260412T170000
DTSTAMP:20260423T204210
CREATED:20260221T154415Z
LAST-MODIFIED:20260228T134045Z
UID:10009591-1776002400-1776013200@berkshireartistree.co.uk
SUMMARY:Live music at MUSICA\, Bracknell
DESCRIPTION:Live Music at MUSICA\, Bracknell \nHead down to Bracknell every Sunday\, for soulful vibes and smooth keys with classics\, favourites and feel-good tunes. Guests can request songs and vote for what comes next\, shaping the set as the afternoon unfolds. See more information on the organiser link below\, or visit the venue link to see more about MUSICA\, Bracknell. \nFor more live music in Berkshire visit BerkshireArtistree.co.uk/live-music-events
URL:https://berkshireartistree.co.uk/live-music-event/live-music-at-musica-bracknell-pauly/2026-04-12/
LOCATION:Musica\, Bracknell\, 3 Eagle Ln\, Bracknell\, RG12 1BG
CATEGORIES:Live Music
ATTACH;FMTTYPE=image/jpeg:https://berkshireartistree.co.uk/wp-content/uploads/2026/02/Musica_HD_live-music_Bracknell.jpeg
END:VEVENT
BEGIN:VEVENT
DTSTART;TZID=UTC:20260409T190000
DTEND;TZID=UTC:20260409T210000
DTSTAMP:20260423T204210
CREATED:20260221T154434Z
LAST-MODIFIED:20260225T154745Z
UID:10009497-1775761200-1775768400@berkshireartistree.co.uk
SUMMARY:Live music at MUSICA\, Bracknell | Marky Dawson
DESCRIPTION:Live Music at MUSICA\, Bracknell\nWith Marky Dawson performing live \nMarky delivers high-energy piano\, big vocals and serious personality. Blending boogie\, rock ’n’ roll and crowd-favourite classics with requests and spontaneity\, his interactive show pulls the whole room in and keeps the night unpredictable. See more information on the organiser link below\, or visit the venue link to see more about MUSICA\, Bracknell. \nFor more live music in Berkshire visit BerkshireArtistree.co.uk/live-music-events
URL:https://berkshireartistree.co.uk/live-music-event/live-music-at-musica-bracknell-marky-dawson/
LOCATION:Live music in Bracknell | MUSICA\, 3 Eagle Ln\, Bracknell\, RG12 1BG
CATEGORIES:Live Music
END:VEVENT
BEGIN:VEVENT
DTSTART;TZID=UTC:20260405T140000
DTEND;TZID=UTC:20260405T170000
DTSTAMP:20260423T204210
CREATED:20260221T154415Z
LAST-MODIFIED:20260228T134045Z
UID:10009590-1775397600-1775408400@berkshireartistree.co.uk
SUMMARY:Live music at MUSICA\, Bracknell
DESCRIPTION:Live Music at MUSICA\, Bracknell \nHead down to Bracknell every Sunday\, for soulful vibes and smooth keys with classics\, favourites and feel-good tunes. Guests can request songs and vote for what comes next\, shaping the set as the afternoon unfolds. See more information on the organiser link below\, or visit the venue link to see more about MUSICA\, Bracknell. \nFor more live music in Berkshire visit BerkshireArtistree.co.uk/live-music-events
URL:https://berkshireartistree.co.uk/live-music-event/live-music-at-musica-bracknell-pauly/2026-04-05/
LOCATION:Musica\, Bracknell\, 3 Eagle Ln\, Bracknell\, RG12 1BG
CATEGORIES:Live Music
ATTACH;FMTTYPE=image/jpeg:https://berkshireartistree.co.uk/wp-content/uploads/2026/02/Musica_HD_live-music_Bracknell.jpeg
END:VEVENT
BEGIN:VEVENT
DTSTART;TZID=UTC:20260329T140000
DTEND;TZID=UTC:20260329T170000
DTSTAMP:20260423T204210
CREATED:20260221T154415Z
LAST-MODIFIED:20260228T134045Z
UID:10009589-1774792800-1774803600@berkshireartistree.co.uk
SUMMARY:Live music at MUSICA\, Bracknell
DESCRIPTION:Live Music at MUSICA\, Bracknell \nHead down to Bracknell every Sunday\, for soulful vibes and smooth keys with classics\, favourites and feel-good tunes. Guests can request songs and vote for what comes next\, shaping the set as the afternoon unfolds. See more information on the organiser link below\, or visit the venue link to see more about MUSICA\, Bracknell. \nFor more live music in Berkshire visit BerkshireArtistree.co.uk/live-music-events
URL:https://berkshireartistree.co.uk/live-music-event/live-music-at-musica-bracknell-pauly/2026-03-29/
LOCATION:Musica\, Bracknell\, 3 Eagle Ln\, Bracknell\, RG12 1BG
CATEGORIES:Live Music
ATTACH;FMTTYPE=image/jpeg:https://berkshireartistree.co.uk/wp-content/uploads/2026/02/Musica_HD_live-music_Bracknell.jpeg
END:VEVENT
END:VCALENDAR