BEGIN:VCALENDAR
VERSION:2.0
PRODID:-//Berkshire Artistree - ECPv6.15.20//NONSGML v1.0//EN
CALSCALE:GREGORIAN
METHOD:PUBLISH
X-WR-CALNAME:Berkshire Artistree
X-ORIGINAL-URL:https://berkshireartistree.co.uk
X-WR-CALDESC:Events for Berkshire Artistree
REFRESH-INTERVAL;VALUE=DURATION:PT1H
X-Robots-Tag:noindex
X-PUBLISHED-TTL:PT1H
BEGIN:VTIMEZONE
TZID:UTC
BEGIN:STANDARD
TZOFFSETFROM:+0000
TZOFFSETTO:+0000
TZNAME:UTC
DTSTART:20250101T000000
END:STANDARD
END:VTIMEZONE
BEGIN:VEVENT
DTSTART;TZID=UTC:20260708T200000
DTEND;TZID=UTC:20260708T230000
DTSTAMP:20260423T204412
CREATED:20260204T131501Z
LAST-MODIFIED:20260207T235126Z
UID:10009867-1783540800-1783551600@berkshireartistree.co.uk
SUMMARY:Open Mic night at The Old Court Arts Centre\, Windsor
DESCRIPTION:Open Mic night at The Old Court Arts Centre\, Windsor \n• Every Wednesday \nAn inviting midweek tradition returns with Open Mic at Old Court Arts Centre\, offering a welcoming stage for musicians\, poets\, storytellers\, and spoken-word performers in the heart of Windsor. Set within this much-loved local venue\, the night creates space for creativity to unfold naturally. Whether you are sharing new material or discovering emerging local talent\, the atmosphere feels open\, relaxed\, and supportive from the start. \nFrom the moment the doors open\, the room carries a sense of possibility. Meanwhile\, performers of all experience levels are encouraged to step forward and take part. An attentive audience supports each act\, while the venue’s long-standing commitment to artistic expression sets the tone. The evening moves at an easy pace\, giving every performer time to connect with the room. As a result\, each session feels unique\, shaped by the voices\, sounds\, and stories that appear on the night. \nOpen Mic at Old Court Arts Centre is as much about listening as it is about performing. Additionally\, the venue’s warm acoustics and informal layout help remove barriers between stage and audience. Creative risks feel welcome here\, and performers often respond directly to the energy in the room. Acoustic songs\, thoughtful monologues\, and moments of improvisation all find a natural home\, with live expression always at the centre. \nFinally\, for anyone seeking a genuine\, community-led music and performance experience\, Open Mic at Old Court Arts Centre remains a consistent highlight. Come to perform\, come to support others\, or simply come to be surprised by what unfolds live on stage. \nFor more live music in Berkshire visit our events page.
URL:https://berkshireartistree.co.uk/live-music-event/open-mic-night-at-the-old-court-arts-centre-windsor/2026-07-08/
LOCATION:Old Courts Arts Centre\, Windsor\, The Old Court\, St Leonard's Road\,\,\, Windsor\, SL4 3BL
CATEGORIES:Open mic
ATTACH;FMTTYPE=image/png:https://berkshireartistree.co.uk/wp-content/uploads/2026/02/Screenshot-2026-02-04-at-12.49.16-e1770210956574.png
END:VEVENT
BEGIN:VEVENT
DTSTART;TZID=UTC:20260715T200000
DTEND;TZID=UTC:20260715T230000
DTSTAMP:20260423T204412
CREATED:20260204T131501Z
LAST-MODIFIED:20260207T235126Z
UID:10009927-1784145600-1784156400@berkshireartistree.co.uk
SUMMARY:Open Mic night at The Old Court Arts Centre\, Windsor
DESCRIPTION:Open Mic night at The Old Court Arts Centre\, Windsor \n• Every Wednesday \nAn inviting midweek tradition returns with Open Mic at Old Court Arts Centre\, offering a welcoming stage for musicians\, poets\, storytellers\, and spoken-word performers in the heart of Windsor. Set within this much-loved local venue\, the night creates space for creativity to unfold naturally. Whether you are sharing new material or discovering emerging local talent\, the atmosphere feels open\, relaxed\, and supportive from the start. \nFrom the moment the doors open\, the room carries a sense of possibility. Meanwhile\, performers of all experience levels are encouraged to step forward and take part. An attentive audience supports each act\, while the venue’s long-standing commitment to artistic expression sets the tone. The evening moves at an easy pace\, giving every performer time to connect with the room. As a result\, each session feels unique\, shaped by the voices\, sounds\, and stories that appear on the night. \nOpen Mic at Old Court Arts Centre is as much about listening as it is about performing. Additionally\, the venue’s warm acoustics and informal layout help remove barriers between stage and audience. Creative risks feel welcome here\, and performers often respond directly to the energy in the room. Acoustic songs\, thoughtful monologues\, and moments of improvisation all find a natural home\, with live expression always at the centre. \nFinally\, for anyone seeking a genuine\, community-led music and performance experience\, Open Mic at Old Court Arts Centre remains a consistent highlight. Come to perform\, come to support others\, or simply come to be surprised by what unfolds live on stage. \nFor more live music in Berkshire visit our events page.
URL:https://berkshireartistree.co.uk/live-music-event/open-mic-night-at-the-old-court-arts-centre-windsor/2026-07-15/
LOCATION:Old Courts Arts Centre\, Windsor\, The Old Court\, St Leonard's Road\,\,\, Windsor\, SL4 3BL
CATEGORIES:Open mic
ATTACH;FMTTYPE=image/png:https://berkshireartistree.co.uk/wp-content/uploads/2026/02/Screenshot-2026-02-04-at-12.49.16-e1770210956574.png
END:VEVENT
BEGIN:VEVENT
DTSTART;TZID=UTC:20260831T130000
DTEND;TZID=UTC:20260831T150000
DTSTAMP:20260423T204412
CREATED:20260205T170203Z
LAST-MODIFIED:20260410T094544Z
UID:10009370-1788181200-1788188400@berkshireartistree.co.uk
SUMMARY:Live music at The Swan\, Pangbourne | Bank Holiday Special
DESCRIPTION:Live Music at The Swan\, Pangbourne\nWith Omari performing live\n  \nA Bank Holiday live music special featuring Omari at The Swan Pangbourne sets the tone for a relaxed yet engaging celebration by the Thames. Omari’s famous sets at The Swan Pangbourne are perfectly suited to a long weekend atmosphere\, offering live performances that encourage listeners to get up and dancing from the get go. From the opening songs\, this Bank Holiday event places quality live music at the heart of the experience. \nOmari’s live shows are defined by a masterclass of expressive vocals\, coupled with live looping of various instruments including guitar\, flute and saxophone. His material blends soul and contemporary influences\, which translates especially well in an intimate setting. As a result\, each performance feels personal and unrushed. Meanwhile\, The Swan Pangbourne provides an inviting backdrop for a Bank Holiday gathering. Its welcoming interior and attentive crowd culture allow the music to breathe. Additionally\, the riverside location adds a subtle sense of occasion\, making the performance feel special without becoming overstated. \nBeautiful riverside setting\nThe venue sits in the heart of Pangbourne overlooking the Thames river\, where you can catch the glorious sunset glancing of the water. Enjoy a wonderful gastro menu while enjoying one of Berkshire’s top talent\, performing a range of hits on multiple instruments! \nFor more live music in Berkshire visit BerkshireArtistree.co.uk/live-music-events
URL:https://berkshireartistree.co.uk/live-music-event/live-music-at-the-swan-pangbourne-omari/2026-08-31/
LOCATION:The Swan\, Pangbourne\, Shooters Hill\, Pangbourne\, Reading\, RG8 7DU
CATEGORIES:Live Music
ATTACH;FMTTYPE=image/webp:https://berkshireartistree.co.uk/wp-content/uploads/2026/02/Omari-Johnson-Daley_sax.webp
END:VEVENT
END:VCALENDAR