BEGIN:VCALENDAR
VERSION:2.0
PRODID:-//Berkshire Artistree - ECPv6.15.20//NONSGML v1.0//EN
CALSCALE:GREGORIAN
METHOD:PUBLISH
X-WR-CALNAME:Berkshire Artistree
X-ORIGINAL-URL:https://berkshireartistree.co.uk
X-WR-CALDESC:Events for Berkshire Artistree
REFRESH-INTERVAL;VALUE=DURATION:PT1H
X-Robots-Tag:noindex
X-PUBLISHED-TTL:PT1H
BEGIN:VTIMEZONE
TZID:UTC
BEGIN:STANDARD
TZOFFSETFROM:+0000
TZOFFSETTO:+0000
TZNAME:UTC
DTSTART:20250101T000000
END:STANDARD
END:VTIMEZONE
BEGIN:VEVENT
DTSTART;TZID=UTC:20260422T190000
DTEND;TZID=UTC:20260422T213000
DTSTAMP:20260423T204210
CREATED:20241030T081720Z
LAST-MODIFIED:20241120T172211Z
UID:10009251-1776884400-1776893400@berkshireartistree.co.uk
SUMMARY:Artist Link-Up at The Rising Sun Arts Centre\, Reading
DESCRIPTION:Artist Link-Up at The Rising Sun Arts Centre\, Reading\nhosted by Only Adz \n• Every Wednesday \nArtist Link-Up is a great networking event for producers\, rappers\, artists and poets of all levels. Run by local artist Only Adz\, this event attracts more hip-hop and R&B style artists. See the venue and organiser links below for more details. \nFor more live music in Berkshire visit BerkshireArtistree.co.uk/live-music-events
URL:https://berkshireartistree.co.uk/live-music-event/artist-link-up-at-the-rising-sun-arts-centre-reading/2026-04-22/
LOCATION:The Rising Sun Arts Centre\, Reading\, 30 Silver St\, Reading\, RG1 2ST\, United Kingdom
ATTACH;FMTTYPE=image/jpeg:https://berkshireartistree.co.uk/wp-content/uploads/2024/04/Artist-Link-Up_Berkshire-Artistree_2.jpeg
END:VEVENT
BEGIN:VEVENT
DTSTART;TZID=UTC:20260415T190000
DTEND;TZID=UTC:20260415T213000
DTSTAMP:20260423T204210
CREATED:20241030T081720Z
LAST-MODIFIED:20241120T172211Z
UID:10009202-1776279600-1776288600@berkshireartistree.co.uk
SUMMARY:Artist Link-Up at The Rising Sun Arts Centre\, Reading
DESCRIPTION:Artist Link-Up at The Rising Sun Arts Centre\, Reading\nhosted by Only Adz \n• Every Wednesday \nArtist Link-Up is a great networking event for producers\, rappers\, artists and poets of all levels. Run by local artist Only Adz\, this event attracts more hip-hop and R&B style artists. See the venue and organiser links below for more details. \nFor more live music in Berkshire visit BerkshireArtistree.co.uk/live-music-events
URL:https://berkshireartistree.co.uk/live-music-event/artist-link-up-at-the-rising-sun-arts-centre-reading/2026-04-15/
LOCATION:The Rising Sun Arts Centre\, Reading\, 30 Silver St\, Reading\, RG1 2ST\, United Kingdom
ATTACH;FMTTYPE=image/jpeg:https://berkshireartistree.co.uk/wp-content/uploads/2024/04/Artist-Link-Up_Berkshire-Artistree_2.jpeg
END:VEVENT
BEGIN:VEVENT
DTSTART;TZID=UTC:20260408T190000
DTEND;TZID=UTC:20260408T213000
DTSTAMP:20260423T204210
CREATED:20241030T081720Z
LAST-MODIFIED:20241120T172211Z
UID:10009170-1775674800-1775683800@berkshireartistree.co.uk
SUMMARY:Artist Link-Up at The Rising Sun Arts Centre\, Reading
DESCRIPTION:Artist Link-Up at The Rising Sun Arts Centre\, Reading\nhosted by Only Adz \n• Every Wednesday \nArtist Link-Up is a great networking event for producers\, rappers\, artists and poets of all levels. Run by local artist Only Adz\, this event attracts more hip-hop and R&B style artists. See the venue and organiser links below for more details. \nFor more live music in Berkshire visit BerkshireArtistree.co.uk/live-music-events
URL:https://berkshireartistree.co.uk/live-music-event/artist-link-up-at-the-rising-sun-arts-centre-reading/2026-04-08/
LOCATION:The Rising Sun Arts Centre\, Reading\, 30 Silver St\, Reading\, RG1 2ST\, United Kingdom
ATTACH;FMTTYPE=image/jpeg:https://berkshireartistree.co.uk/wp-content/uploads/2024/04/Artist-Link-Up_Berkshire-Artistree_2.jpeg
END:VEVENT
BEGIN:VEVENT
DTSTART;TZID=UTC:20260401T190000
DTEND;TZID=UTC:20260401T213000
DTSTAMP:20260423T204210
CREATED:20241030T081720Z
LAST-MODIFIED:20241120T172211Z
UID:10009147-1775070000-1775079000@berkshireartistree.co.uk
SUMMARY:Artist Link-Up at The Rising Sun Arts Centre\, Reading
DESCRIPTION:Artist Link-Up at The Rising Sun Arts Centre\, Reading\nhosted by Only Adz \n• Every Wednesday \nArtist Link-Up is a great networking event for producers\, rappers\, artists and poets of all levels. Run by local artist Only Adz\, this event attracts more hip-hop and R&B style artists. See the venue and organiser links below for more details. \nFor more live music in Berkshire visit BerkshireArtistree.co.uk/live-music-events
URL:https://berkshireartistree.co.uk/live-music-event/artist-link-up-at-the-rising-sun-arts-centre-reading/2026-04-01/
LOCATION:The Rising Sun Arts Centre\, Reading\, 30 Silver St\, Reading\, RG1 2ST\, United Kingdom
ATTACH;FMTTYPE=image/jpeg:https://berkshireartistree.co.uk/wp-content/uploads/2024/04/Artist-Link-Up_Berkshire-Artistree_2.jpeg
END:VEVENT
BEGIN:VEVENT
DTSTART;TZID=UTC:20260325T190000
DTEND;TZID=UTC:20260325T213000
DTSTAMP:20260423T204210
CREATED:20241030T081720Z
LAST-MODIFIED:20241120T172211Z
UID:10009129-1774465200-1774474200@berkshireartistree.co.uk
SUMMARY:Artist Link-Up at The Rising Sun Arts Centre\, Reading
DESCRIPTION:Artist Link-Up at The Rising Sun Arts Centre\, Reading\nhosted by Only Adz \n• Every Wednesday \nArtist Link-Up is a great networking event for producers\, rappers\, artists and poets of all levels. Run by local artist Only Adz\, this event attracts more hip-hop and R&B style artists. See the venue and organiser links below for more details. \nFor more live music in Berkshire visit BerkshireArtistree.co.uk/live-music-events
URL:https://berkshireartistree.co.uk/live-music-event/artist-link-up-at-the-rising-sun-arts-centre-reading/2026-03-25/
LOCATION:The Rising Sun Arts Centre\, Reading\, 30 Silver St\, Reading\, RG1 2ST\, United Kingdom
ATTACH;FMTTYPE=image/jpeg:https://berkshireartistree.co.uk/wp-content/uploads/2024/04/Artist-Link-Up_Berkshire-Artistree_2.jpeg
END:VEVENT
END:VCALENDAR