BEGIN:VCALENDAR
VERSION:2.0
PRODID:-//Berkshire Artistree - ECPv6.15.20//NONSGML v1.0//EN
CALSCALE:GREGORIAN
METHOD:PUBLISH
X-WR-CALNAME:Berkshire Artistree
X-ORIGINAL-URL:https://berkshireartistree.co.uk
X-WR-CALDESC:Events for Berkshire Artistree
REFRESH-INTERVAL;VALUE=DURATION:PT1H
X-Robots-Tag:noindex
X-PUBLISHED-TTL:PT1H
BEGIN:VTIMEZONE
TZID:UTC
BEGIN:STANDARD
TZOFFSETFROM:+0000
TZOFFSETTO:+0000
TZNAME:UTC
DTSTART:20250101T000000
END:STANDARD
END:VTIMEZONE
BEGIN:VEVENT
DTSTART;TZID=UTC:20260424T193000
DTEND;TZID=UTC:20260424T213000
DTSTAMP:20260423T191339
CREATED:20260227T123929Z
LAST-MODIFIED:20260227T124034Z
UID:10009579-1777059000-1777066200@berkshireartistree.co.uk
SUMMARY:Live Music in Abindgon\, Hotel Garden Inn | Omari
DESCRIPTION:Live music in Abingdon\, Hotel Garden Inn\nwith performance from Omari\nSoulful vocalist Omari performing at the Hilton Hotel Abingdon promises an evening of smooth grooves and refined live energy in an elegant setting. \nKey Points➖ Soul\, R&B and contemporary classics delivered with warmth and charisma➖ Stylish hotel venue with bar service and relaxed ambience➖ Ideal for couples\, groups\, and lovers of polished live music \nOmari Johnson-Daley at Hilton Hotel Abingdon\nOmari Johnson-Daley at Hilton Hotel Abingdon brings together silky vocals\, heartfelt delivery\, and effortless stage presence. Known for his rich tone and engaging performance style\, Omari blends soul\, R&B\, and popular favourites into a set that feels both intimate and uplifting. As a result\, audiences can expect smooth transitions\, confident musicianship\, and a connection that carries from the first note to the final encore. His live shows feel personal yet polished\, making them perfect for those who appreciate authentic vocal talent. \nMeanwhile\, the Hilton Hotel Abingdon provides a sophisticated backdrop for the evening. The venue pairs contemporary comfort with a welcoming atmosphere\, creating the ideal environment for live entertainment. Guests can enjoy crafted drinks from the bar\, comfortable seating\, and excellent acoustics\, all within a stylish hotel setting. Because of its spacious layout and attentive service\, every performance here feels relaxed yet special. \nUltimately\, Omari Johnson-Daley at Hilton Hotel Abingdon is more than a night out; it’s a chance to experience accomplished live music in a refined space. Whether you are planning a social evening or simply want to unwind with quality entertainment\, this upcoming performance delivers atmosphere\, talent\, and memorable moments in equal measure. \nFor more live music check out Berkshireartistree.co.uk/live-music-events/
URL:https://berkshireartistree.co.uk/live-music-event/live-music-in-abindgon-hotel-garden-inn-omari/2026-04-24/
LOCATION:Hilton Hotel\, Abingdon\, Marcham Rd\, Abingdon\, OX14 1TZ
CATEGORIES:Live Music
ATTACH;FMTTYPE=image/jpeg:https://berkshireartistree.co.uk/wp-content/uploads/2025/04/how-tp-present-yourself-as-a-musician_Omari-Johnson-Daley_presentation-is-everything.jpg
END:VEVENT
BEGIN:VEVENT
DTSTART;TZID=UTC:20260515T193000
DTEND;TZID=UTC:20260515T213000
DTSTAMP:20260423T191339
CREATED:20260227T124608Z
LAST-MODIFIED:20260227T124931Z
UID:10009580-1778873400-1778880600@berkshireartistree.co.uk
SUMMARY:Live music at The Hilton Hotel\, Abingdon | Loz Kingsley
DESCRIPTION:Live Music at The Hilton Hotel\, Abingdon\nWith Loz Kingsley performing live\n  \nThe Hilton Garden Inn in Abingdon features regular live music acts throughout the year. \n\n\n\n\n\n\n\n\n\nLoz has spent most of his adult life immersed in live music. Over the years\, he has performed across small clubs\, large venues and festival stages\, and has even appeared on television. A multi-instrumentalist\, he plays mandolin\, guitar and bass with equal ease. In addition\, he recently released his own album\, Vintage Mandolin\, and continues to contribute to other artists’ projects through regular session work. \nThese days\, Loz performs either as one half of his duo\, Vo & Loz\, or as a solo artist. When performing alone\, he accompanies himself on guitar or mandolin\, creating a full\, textured sound that suits both intimate rooms and lively gatherings. His performances take him to pubs\, private parties and festivals\, where his relaxed style and musicianship set the tone. \nHis set list is wide-ranging\, yet rooted firmly in the golden decades of popular music. Drawing mainly from the 1950s through to the 1980s\, he revisits songs from the back catalogues of artists such as Van Morrison\, Johnny Cash\, Cat Stevens and Creedence Clearwater Revival. Audiences can also expect favourites from The Eagles\, Donovan\, John Denver\, Bob Dylan\, The Rolling Stones\, Buddy Holly\, The Everly Brothers and Elvis Presley. \nMeanwhile\, Loz brings a touch of classic sophistication with selections from The Great American Songbook. He performs timeless pieces by Irving Berlin\, Cole Porter and Fats Waller\, adding further depth to an already varied repertoire. \nAs a result\, his shows blend folk\, rock ’n’ roll\, country and classic pop into an evening that feels both familiar and thoughtfully curated. \n\n\n\n\n\n\n\n\n\n\nFor more live music in Berkshire visit BerkshireArtistree.co.uk/live-music-events
URL:https://berkshireartistree.co.uk/live-music-event/live-music-at-the-hilton-hotel-abingdon-loz-kingsley/
LOCATION:Hilton Hotel\, Abingdon\, Marcham Rd\, Abingdon\, OX14 1TZ
CATEGORIES:Live Music
ATTACH;FMTTYPE=image/jpeg:https://berkshireartistree.co.uk/wp-content/uploads/2026/02/loz-kingsley_live-music-e1771437463498.jpg
END:VEVENT
BEGIN:VEVENT
DTSTART;TZID=UTC:20260522T190000
DTEND;TZID=UTC:20260522T210000
DTSTAMP:20260423T191339
CREATED:20260203T161247Z
LAST-MODIFIED:20260402T080659Z
UID:10009340-1779476400-1779483600@berkshireartistree.co.uk
SUMMARY:Live music at The Hilton Hotel\, Abingdon  | One Eyed Man
DESCRIPTION:Live Music at The Hilton Hotel\, Abingdon\nWith One Eyed Man performing live \n  \nA polished live music evening takes shape as One Eyed Man at Hilton Garden Inn Abingdon Oxford brings expressive acoustic performance into a modern hotel setting. Known for blending acoustic guitar\, vocals\, and light percussion\, One Eyed Man creates live sets that feel both relaxed and engaging. Hosted at Hilton Garden Inn Abingdon Oxford\, the event pairs contemporary comfort with live music that enhances the atmosphere without overpowering it. For guests and locals alike\, One Eyed Man at Hilton Garden Inn Abingdon Oxford offers an inviting way to enjoy quality live performance. \nOne Eyed Man live at Hilton Garden Inn Abingdon Oxford\nOne Eyed Man is steadily building a reputation across Berkshire and the surrounding areas for a husky\, expressive voice and adaptable live shows. While modern folk sits at the heart of the sound\, each performance moves confidently across genres. Expect heartfelt covers of Mumford & Sons\, George Ezra\, Noah Kahan\, and Tracy Chapman\, delivered with warmth and clarity. Meanwhile\, familiar favourites from Bon Jovi\, Bill Withers\, Jason Mraz\, and Teddy Swims lift the energy and encourage an easygoing singalong. As a result\, One Eyed Man at Hilton Garden Inn Abingdon Oxford suits both relaxed listening and more upbeat social moments. \nAdditionally\, the Hilton Garden Inn Abingdon Oxford provides a refined yet welcoming backdrop. The venue’s contemporary design and comfortable layout allow subtle musical details to shine while maintaining a sociable feel. Finally\, whether you are planning a casual evening out or a laid-back night with friends or colleagues\, One Eyed Man at Hilton Garden Inn Abingdon Oxford delivers live music shaped by versatility\, connection\, and atmosphere. \n\nFor more live music in Berkshire visit BerkshireArtistree.co.uk/live-music-events
URL:https://berkshireartistree.co.uk/live-music-event/live-music-at-the-hilton-hotel-abingdon-one-eyed-man-2/2026-05-22/
LOCATION:Hilton Hotel\, Abingdon\, Marcham Rd\, Abingdon\, OX14 1TZ
CATEGORIES:Live Music
ATTACH;FMTTYPE=image/jpeg:https://berkshireartistree.co.uk/wp-content/uploads/2024/09/One-Eyed-Man_Stuart-Hutton_2_berkshire-artistree.jpg
END:VEVENT
BEGIN:VEVENT
DTSTART;TZID=UTC:20260626T190000
DTEND;TZID=UTC:20260626T210000
DTSTAMP:20260423T191339
CREATED:20260203T161247Z
LAST-MODIFIED:20260402T080659Z
UID:10009341-1782500400-1782507600@berkshireartistree.co.uk
SUMMARY:Live music at The Hilton Hotel\, Abingdon  | One Eyed Man
DESCRIPTION:Live Music at The Hilton Hotel\, Abingdon\nWith One Eyed Man performing live \n  \nA polished live music evening takes shape as One Eyed Man at Hilton Garden Inn Abingdon Oxford brings expressive acoustic performance into a modern hotel setting. Known for blending acoustic guitar\, vocals\, and light percussion\, One Eyed Man creates live sets that feel both relaxed and engaging. Hosted at Hilton Garden Inn Abingdon Oxford\, the event pairs contemporary comfort with live music that enhances the atmosphere without overpowering it. For guests and locals alike\, One Eyed Man at Hilton Garden Inn Abingdon Oxford offers an inviting way to enjoy quality live performance. \nOne Eyed Man live at Hilton Garden Inn Abingdon Oxford\nOne Eyed Man is steadily building a reputation across Berkshire and the surrounding areas for a husky\, expressive voice and adaptable live shows. While modern folk sits at the heart of the sound\, each performance moves confidently across genres. Expect heartfelt covers of Mumford & Sons\, George Ezra\, Noah Kahan\, and Tracy Chapman\, delivered with warmth and clarity. Meanwhile\, familiar favourites from Bon Jovi\, Bill Withers\, Jason Mraz\, and Teddy Swims lift the energy and encourage an easygoing singalong. As a result\, One Eyed Man at Hilton Garden Inn Abingdon Oxford suits both relaxed listening and more upbeat social moments. \nAdditionally\, the Hilton Garden Inn Abingdon Oxford provides a refined yet welcoming backdrop. The venue’s contemporary design and comfortable layout allow subtle musical details to shine while maintaining a sociable feel. Finally\, whether you are planning a casual evening out or a laid-back night with friends or colleagues\, One Eyed Man at Hilton Garden Inn Abingdon Oxford delivers live music shaped by versatility\, connection\, and atmosphere. \n\nFor more live music in Berkshire visit BerkshireArtistree.co.uk/live-music-events
URL:https://berkshireartistree.co.uk/live-music-event/live-music-at-the-hilton-hotel-abingdon-one-eyed-man-2/2026-06-26/
LOCATION:Hilton Hotel\, Abingdon\, Marcham Rd\, Abingdon\, OX14 1TZ
CATEGORIES:Live Music
ATTACH;FMTTYPE=image/jpeg:https://berkshireartistree.co.uk/wp-content/uploads/2024/09/One-Eyed-Man_Stuart-Hutton_2_berkshire-artistree.jpg
END:VEVENT
END:VCALENDAR