BEGIN:VCALENDAR
VERSION:2.0
PRODID:-//Berkshire Artistree - ECPv6.15.20//NONSGML v1.0//EN
CALSCALE:GREGORIAN
METHOD:PUBLISH
X-ORIGINAL-URL:https://berkshireartistree.co.uk
X-WR-CALDESC:Events for Berkshire Artistree
REFRESH-INTERVAL;VALUE=DURATION:PT1H
X-Robots-Tag:noindex
X-PUBLISHED-TTL:PT1H
BEGIN:VTIMEZONE
TZID:UTC
BEGIN:STANDARD
TZOFFSETFROM:+0000
TZOFFSETTO:+0000
TZNAME:UTC
DTSTART:20250101T000000
END:STANDARD
END:VTIMEZONE
BEGIN:VEVENT
DTSTART;TZID=UTC:20260417T193000
DTEND;TZID=UTC:20260417T213000
DTSTAMP:20260423T170138
CREATED:20260409T105818Z
LAST-MODIFIED:20260416T100448Z
UID:10009853-1776454200-1776461400@berkshireartistree.co.uk
SUMMARY:Live music in Arborfield\, The Bull Inn | Steph Willis
DESCRIPTION:Singer-songwriter Steph Willis performing at The Bull Inn Arborfield Cross promises an intimate live music experience shaped by heartfelt songwriting and engaging stage presence. \nKey Points➖ Live performance from Steph Willis in a cosy pub setting➖ Acoustic-led sound with expressive vocals and honest lyrics➖ Relaxed\, welcoming atmosphere ideal for close-up live music➖ Strong audience connection through storytelling and delivery➖ Perfect for fans of authentic\, stripped-back performances \nSteph Willis at The Bull Inn Arborfield Cross\nSteph Willis brings a warm vocal tone and clear emotional delivery that immediately draws listeners in. Her songs balance reflection with uplift\, while her stage presence keeps the set flowing with ease. As a result\, the performance feels both personal and engaging. Listeners can expect melodic\, story-driven music that resonates long after each song ends. \nMeanwhile\, The Bull Inn Arborfield Cross provides the perfect setting for this style of performance. The venue offers a cosy\, close-knit atmosphere\, which allows every lyric and nuance to land effectively. Guests can settle in comfortably and enjoy the music without distraction. In addition\, the welcoming environment makes it easy to relax and fully connect with the live experience. \nSet within The Bull Inn Arborfield Cross\, the evening benefits from a cosy and inviting atmosphere that enhances every note. The venue’s intimate layout allows guests to feel close to the music\, making it ideal for appreciating the nuance and emotion in Steph Willis’s performance. Whether you’re settled in for a relaxed evening or discovering new live music\, the setting complements the artist perfectly! \nFor more live music check out Berkshireartistree.co.uk/live-music-events/
URL:https://berkshireartistree.co.uk/live-music-event/live-music-in-arborfield-the-bull-inn-steph-willis/
LOCATION:The Bull Inn\, Arborfield Cross\, Arborfield Cross\, Reading\, RG2 9QD\, United Kingdom
CATEGORIES:Live Music
ATTACH;FMTTYPE=image/png:https://berkshireartistree.co.uk/wp-content/uploads/2026/04/live-music-arborfield_steph.png
END:VEVENT
BEGIN:VEVENT
DTSTART;TZID=UTC:20260410T190000
DTEND;TZID=UTC:20260410T210000
DTSTAMP:20260423T170138
CREATED:20260408T090206Z
LAST-MODIFIED:20260408T090349Z
UID:10009843-1775847600-1775854800@berkshireartistree.co.uk
SUMMARY:Live music in Arborfield\, The Bull Inn | AJ Acoustix
DESCRIPTION:Upbeat classics with live singer\nAcoustic live act AJ Acoustix performing at The Bull Inn Arborfield Cross promises an intimate and engaging evening of stripped-back music and crowd-pleasing energy. \nKey Points➖ Live acoustic set from AJ Acoustix➖ Hosted at The Bull Inn Arborfield Cross➖ Up-close and intimate performance style➖ Ideal for a laid-back social evening with live music \nExperience AJ Acoustix at The Bull Inn Arborfield Cross\nLive music at The Bull Inn Arborfield Cross creates a warm and immersive live music atmosphere. His acoustic style feels natural and expressive. As a result\, each song connects easily with the audience. The set moves smoothly between familiar favourites and melodic interpretations. Therefore\, it appeals to listeners who enjoy authentic\, stripped-back performances. \nIn addition\, AJ Acoustix brings a strong sense of presence to the room. He engages the crowd without overwhelming the space. This balance keeps the energy consistent throughout the performance. Moreover\, the acoustic format allows every detail to shine clearly. \nThe Bull Inn Arborfield Cross enhances the experience with its cosy and inviting pub environment. Guests can relax with a drink while enjoying the music. The layout keeps the performer close to the audience\, which strengthens the connection. Because of this\, the venue suits acoustic sets perfectly. \nOverall\, AJ Acoustix at The Bull Inn Arborfield Cross offers a memorable and easy-going live music night. Whether you’re meeting friends or discovering live acoustic music\, the setting delivers. So\, if you want quality music in a comfortable space\, this event is well worth attending. \nFor more live music check out Berkshireartistree.co.uk/live-music-events/
URL:https://berkshireartistree.co.uk/live-music-event/live-music-in-arborfield-the-bull-inn-aj-acoustix/
LOCATION:The Bull Inn\, Arborfield Cross\, Arborfield Cross\, Reading\, RG2 9QD\, United Kingdom
CATEGORIES:Live Music
ATTACH;FMTTYPE=image/jpeg:https://berkshireartistree.co.uk/wp-content/uploads/2026/04/Live-music-arborfield_AJ-e1775664427951.jpg
END:VEVENT
BEGIN:VEVENT
DTSTART;TZID=UTC:20260405T150000
DTEND;TZID=UTC:20260405T170000
DTSTAMP:20260423T170138
CREATED:20260329T143323Z
LAST-MODIFIED:20260331T101739Z
UID:10009805-1775401200-1775408400@berkshireartistree.co.uk
SUMMARY:Easter Sunday in Arborfield\, The Bull Inn | One Eyed Man
DESCRIPTION:Easter Bank Holiday at The Bull Inn\nWith live performance from One Eyed Man\n\n\n\n\n\n\n\n\n\nEaster Sunday at the Bull Inn Arborfield promises a lively start to spring with live music in the hideout! The event is family friendly\, serves food and drink and is great fun for all ages! \nKey Points➖ Upbeat classics with rich harmonies and catchy hooks \n➖ Family friendly for kids of all ages➖ Acoustic performance (with outdoor heating) in the hideout\n➖ A joyful\, audience-friendly live experience \nFeel-Good Indie Folk: One Eyed Man at The Bull Inn\nOne Eyed Man at The Bull Inn Arborfield Cross is set to deliver uplifting indie folk with a vibrant twist. While his songwriting carries warmth and heart\, his live shows burst with personality and rhythm. Expect toe-tapping acoustic grooves\, bright guitar lines\, and harmonies that lift the room from the very first chorus! One Eyed Man thrives on audience connection\, each set feels shared rather than staged. Expect popular covers in a unique guitar and percussion style\, all afternoon! \n\nArborfield local pub with outdoor cover\n\nThis cosy pub sports a fantastic outdoor area called the Hideout – a heated area with cover\, complete with a bar that takes food orders. Easter Sunday at the Bull Inn is a perfect place for families\, locals and music lovers to unwind ready for the summer season! \nAll things considered\, this upcoming show offers more than just live music. It’s a chance to experience indie folk at its most joyful and engaging\, performed in a venue that knows how to host a great night out. If you’re looking for an upbeat evening filled with melody and good company\, this is the one to catch. \nFor more live music check out Berkshireartistree.co.uk/live-music-events/
URL:https://berkshireartistree.co.uk/live-music-event/easter-sunday-in-arborfield-the-bull-inn-one-eyed-man/
LOCATION:The Bull Inn\, Arborfield Cross\, Arborfield Cross\, Reading\, RG2 9QD\, United Kingdom
CATEGORIES:Live Music
ATTACH;FMTTYPE=image/png:https://berkshireartistree.co.uk/wp-content/uploads/2026/03/easter-sunday_arborfield_one-eyed-man.png
END:VEVENT
END:VCALENDAR