BEGIN:VCALENDAR
VERSION:2.0
PRODID:-//Berkshire Artistree - ECPv6.15.20//NONSGML v1.0//EN
CALSCALE:GREGORIAN
METHOD:PUBLISH
X-ORIGINAL-URL:https://berkshireartistree.co.uk
X-WR-CALDESC:Events for Berkshire Artistree
REFRESH-INTERVAL;VALUE=DURATION:PT1H
X-Robots-Tag:noindex
X-PUBLISHED-TTL:PT1H
BEGIN:VTIMEZONE
TZID:UTC
BEGIN:STANDARD
TZOFFSETFROM:+0000
TZOFFSETTO:+0000
TZNAME:UTC
DTSTART:20250101T000000
END:STANDARD
END:VTIMEZONE
BEGIN:VEVENT
DTSTART;TZID=UTC:20260704T130000
DTEND;TZID=UTC:20260704T150000
DTSTAMP:20260423T191506
CREATED:20260203T175709Z
LAST-MODIFIED:20260330T103143Z
UID:10009806-1783170000-1783177200@berkshireartistree.co.uk
SUMMARY:Live music at The Dolphin\, Wallingford | One Eyed Man
DESCRIPTION:Live Music at The Dolphin\, Wallingford\nWith One Eyed Man performing live \n  \nA standout live music night is on the way as One Eyed Man at The Dolphin Wallingford brings a distinctive\, emotionally charged performance into one of Oxfordshire’s most respected grassroots venues. Known for vivid storytelling and a sound that balances intensity with melody\, One Eyed Man delivers songs that feel immediate and deeply human. From the first note\, this show promises connection\, nuance\, and a sense of occasion that rewards close listening. \nThe project\, led by One Eyed Man\, blends alternative rock textures with lyrical focus and dynamic shifts that translate powerfully on stage. Live\, the songs expand with urgency and precision\, drawing the audience into moments that feel both personal and expansive. Meanwhile\, the setting matters. The Dolphin Wallingford is celebrated for its warm acoustics and attentive crowd\, making it an ideal home for performances where detail and atmosphere matter. As a result\, the music lands with clarity and emotional weight rather than getting lost in the room. \nWhy One Eyed Man at The Dolphin Wallingford Works So Well\nAdditionally\, the venue’s intimate layout encourages genuine interaction between artist and audience. There’s space here for quieter passages to breathe\, then room for bigger moments to hit with impact. However the set unfolds\, the focus remains firmly on the live experience\, not distractions. That balance keeps the performance engaging from start to finish. \nFinally\, for fans of thoughtful\, modern alternative music\, One Eyed Man at The Dolphin Wallingford is a compelling reason to step out and support live music. Expect a performance shaped by honesty\, control\, and the rare feeling that you’re part of something unfolding in real time. \n\n\n\n\n\n\n\n\nOne Eyed Man at The Dolphin Wallingford brings an intimate live music performance\, combining modern alternative rock with sharp songwriting and atmosphere. \n\n\n\n\n\n\n\n\nFor more live music in Berkshire visit BerkshireArtistree.co.uk/live-music-events
URL:https://berkshireartistree.co.uk/live-music-event/live-music-at-the-dolphin-wallingford-one-eyed-man/2026-07-04/
LOCATION:The Dolphin\, Wallingford\, St Mary's St\, Wallingford\, OX10 0ET
CATEGORIES:Live Music
ATTACH;FMTTYPE=image/webp:https://berkshireartistree.co.uk/wp-content/uploads/2025/04/One-Eyed-Man_berkshire-artistree_Poster.webp
END:VEVENT
BEGIN:VEVENT
DTSTART;TZID=UTC:20260830T133000
DTEND;TZID=UTC:20260830T153000
DTSTAMP:20260423T191506
CREATED:20260203T175709Z
LAST-MODIFIED:20260330T103143Z
UID:10009352-1788096600-1788103800@berkshireartistree.co.uk
SUMMARY:Live music at The Dolphin\, Wallingford | One Eyed Man
DESCRIPTION:Live Music at The Dolphin\, Wallingford\nWith One Eyed Man performing live \n  \nA standout live music night is on the way as One Eyed Man at The Dolphin Wallingford brings a distinctive\, emotionally charged performance into one of Oxfordshire’s most respected grassroots venues. Known for vivid storytelling and a sound that balances intensity with melody\, One Eyed Man delivers songs that feel immediate and deeply human. From the first note\, this show promises connection\, nuance\, and a sense of occasion that rewards close listening. \nThe project\, led by One Eyed Man\, blends alternative rock textures with lyrical focus and dynamic shifts that translate powerfully on stage. Live\, the songs expand with urgency and precision\, drawing the audience into moments that feel both personal and expansive. Meanwhile\, the setting matters. The Dolphin Wallingford is celebrated for its warm acoustics and attentive crowd\, making it an ideal home for performances where detail and atmosphere matter. As a result\, the music lands with clarity and emotional weight rather than getting lost in the room. \nWhy One Eyed Man at The Dolphin Wallingford Works So Well\nAdditionally\, the venue’s intimate layout encourages genuine interaction between artist and audience. There’s space here for quieter passages to breathe\, then room for bigger moments to hit with impact. However the set unfolds\, the focus remains firmly on the live experience\, not distractions. That balance keeps the performance engaging from start to finish. \nFinally\, for fans of thoughtful\, modern alternative music\, One Eyed Man at The Dolphin Wallingford is a compelling reason to step out and support live music. Expect a performance shaped by honesty\, control\, and the rare feeling that you’re part of something unfolding in real time. \n\n\n\n\n\n\n\n\nOne Eyed Man at The Dolphin Wallingford brings an intimate live music performance\, combining modern alternative rock with sharp songwriting and atmosphere. \n\n\n\n\n\n\n\n\nFor more live music in Berkshire visit BerkshireArtistree.co.uk/live-music-events
URL:https://berkshireartistree.co.uk/live-music-event/live-music-at-the-dolphin-wallingford-one-eyed-man/2026-08-30/
LOCATION:The Dolphin\, Wallingford\, St Mary's St\, Wallingford\, OX10 0ET
CATEGORIES:Live Music
ATTACH;FMTTYPE=image/webp:https://berkshireartistree.co.uk/wp-content/uploads/2025/04/One-Eyed-Man_berkshire-artistree_Poster.webp
END:VEVENT
BEGIN:VEVENT
DTSTART;TZID=UTC:20260906T130000
DTEND;TZID=UTC:20260906T140000
DTSTAMP:20260423T191506
CREATED:20260203T175709Z
LAST-MODIFIED:20260330T103143Z
UID:10009353-1788699600-1788703200@berkshireartistree.co.uk
SUMMARY:Live music at The Dolphin\, Wallingford | One Eyed Man
DESCRIPTION:Live Music at The Dolphin\, Wallingford\nWith One Eyed Man performing live \n  \nA standout live music night is on the way as One Eyed Man at The Dolphin Wallingford brings a distinctive\, emotionally charged performance into one of Oxfordshire’s most respected grassroots venues. Known for vivid storytelling and a sound that balances intensity with melody\, One Eyed Man delivers songs that feel immediate and deeply human. From the first note\, this show promises connection\, nuance\, and a sense of occasion that rewards close listening. \nThe project\, led by One Eyed Man\, blends alternative rock textures with lyrical focus and dynamic shifts that translate powerfully on stage. Live\, the songs expand with urgency and precision\, drawing the audience into moments that feel both personal and expansive. Meanwhile\, the setting matters. The Dolphin Wallingford is celebrated for its warm acoustics and attentive crowd\, making it an ideal home for performances where detail and atmosphere matter. As a result\, the music lands with clarity and emotional weight rather than getting lost in the room. \nWhy One Eyed Man at The Dolphin Wallingford Works So Well\nAdditionally\, the venue’s intimate layout encourages genuine interaction between artist and audience. There’s space here for quieter passages to breathe\, then room for bigger moments to hit with impact. However the set unfolds\, the focus remains firmly on the live experience\, not distractions. That balance keeps the performance engaging from start to finish. \nFinally\, for fans of thoughtful\, modern alternative music\, One Eyed Man at The Dolphin Wallingford is a compelling reason to step out and support live music. Expect a performance shaped by honesty\, control\, and the rare feeling that you’re part of something unfolding in real time. \n\n\n\n\n\n\n\n\nOne Eyed Man at The Dolphin Wallingford brings an intimate live music performance\, combining modern alternative rock with sharp songwriting and atmosphere. \n\n\n\n\n\n\n\n\nFor more live music in Berkshire visit BerkshireArtistree.co.uk/live-music-events
URL:https://berkshireartistree.co.uk/live-music-event/live-music-at-the-dolphin-wallingford-one-eyed-man/2026-09-06/
LOCATION:The Dolphin\, Wallingford\, St Mary's St\, Wallingford\, OX10 0ET
CATEGORIES:Live Music
ATTACH;FMTTYPE=image/webp:https://berkshireartistree.co.uk/wp-content/uploads/2025/04/One-Eyed-Man_berkshire-artistree_Poster.webp
END:VEVENT
BEGIN:VEVENT
DTSTART;TZID=UTC:20261220T160000
DTEND;TZID=UTC:20261220T180000
DTSTAMP:20260423T191506
CREATED:20260203T175709Z
LAST-MODIFIED:20260330T103143Z
UID:10009354-1797782400-1797789600@berkshireartistree.co.uk
SUMMARY:Live music at The Dolphin\, Wallingford | One Eyed Man
DESCRIPTION:Live Music at The Dolphin\, Wallingford\nWith One Eyed Man performing live \n  \nA standout live music night is on the way as One Eyed Man at The Dolphin Wallingford brings a distinctive\, emotionally charged performance into one of Oxfordshire’s most respected grassroots venues. Known for vivid storytelling and a sound that balances intensity with melody\, One Eyed Man delivers songs that feel immediate and deeply human. From the first note\, this show promises connection\, nuance\, and a sense of occasion that rewards close listening. \nThe project\, led by One Eyed Man\, blends alternative rock textures with lyrical focus and dynamic shifts that translate powerfully on stage. Live\, the songs expand with urgency and precision\, drawing the audience into moments that feel both personal and expansive. Meanwhile\, the setting matters. The Dolphin Wallingford is celebrated for its warm acoustics and attentive crowd\, making it an ideal home for performances where detail and atmosphere matter. As a result\, the music lands with clarity and emotional weight rather than getting lost in the room. \nWhy One Eyed Man at The Dolphin Wallingford Works So Well\nAdditionally\, the venue’s intimate layout encourages genuine interaction between artist and audience. There’s space here for quieter passages to breathe\, then room for bigger moments to hit with impact. However the set unfolds\, the focus remains firmly on the live experience\, not distractions. That balance keeps the performance engaging from start to finish. \nFinally\, for fans of thoughtful\, modern alternative music\, One Eyed Man at The Dolphin Wallingford is a compelling reason to step out and support live music. Expect a performance shaped by honesty\, control\, and the rare feeling that you’re part of something unfolding in real time. \n\n\n\n\n\n\n\n\nOne Eyed Man at The Dolphin Wallingford brings an intimate live music performance\, combining modern alternative rock with sharp songwriting and atmosphere. \n\n\n\n\n\n\n\n\nFor more live music in Berkshire visit BerkshireArtistree.co.uk/live-music-events
URL:https://berkshireartistree.co.uk/live-music-event/live-music-at-the-dolphin-wallingford-one-eyed-man/2026-12-20/
LOCATION:The Dolphin\, Wallingford\, St Mary's St\, Wallingford\, OX10 0ET
CATEGORIES:Live Music
ATTACH;FMTTYPE=image/webp:https://berkshireartistree.co.uk/wp-content/uploads/2025/04/One-Eyed-Man_berkshire-artistree_Poster.webp
END:VEVENT
END:VCALENDAR