BEGIN:VCALENDAR
VERSION:2.0
PRODID:-//Berkshire Artistree - ECPv6.15.20//NONSGML v1.0//EN
CALSCALE:GREGORIAN
METHOD:PUBLISH
X-ORIGINAL-URL:https://berkshireartistree.co.uk
X-WR-CALDESC:Events for Berkshire Artistree
REFRESH-INTERVAL;VALUE=DURATION:PT1H
X-Robots-Tag:noindex
X-PUBLISHED-TTL:PT1H
BEGIN:VTIMEZONE
TZID:UTC
BEGIN:STANDARD
TZOFFSETFROM:+0000
TZOFFSETTO:+0000
TZNAME:UTC
DTSTART:20250101T000000
END:STANDARD
END:VTIMEZONE
BEGIN:VEVENT
DTSTART;TZID=UTC:20260403T200000
DTEND;TZID=UTC:20260403T230000
DTSTAMP:20260423T204630
CREATED:20260114T163502Z
LAST-MODIFIED:20260114T163917Z
UID:10009196-1775246400-1775257200@berkshireartistree.co.uk
SUMMARY:Open Mic at The Oakingham Belle\, Wokingham
DESCRIPTION:Open Mic at The Oakingham Belle\nhosted by Abi Powell Music \n• First Friday of the month \n\n\n\n\n\n\n\n\n\n\n\n\n\n\n\n\n\n\n\n\n\n\nOpen Mic Night at The Oakingham Belle offers a relaxed and rewarding live music experience in the centre of Wokingham\, hosted by Abi Powell Music. Designed to welcome performers of all levels\, this monthly event brings together singers\, songwriters\, and musicians for an evening focused on creativity and shared enjoyment. From the outset\, Open Mic Night at The Oakingham Belle sets a supportive tone that encourages both confidence and experimentation on stage. \nMeanwhile\, Abi Powell Music guides the night with warmth and professionalism. As host\, Abi creates an environment where artists feel comfortable performing original material or putting their own spin on familiar songs. Additionally\, advance booking helps the evening run smoothly\, giving each performer a clear slot and a genuinely attentive audience. This structure allows performers to focus on their music rather than logistics\, which adds to the night’s easygoing flow. \nThe venue itself plays an essential role in shaping the atmosphere. The Oakingham Belle is a characterful local pub known for its welcoming interior and engaged crowd. As a result\, Open Mic Night at The Oakingham Belle feels social without becoming distracting\, making it ideal for live acoustic sets and intimate performances. \n\n\n\n\n\n\n\n\nFor more live music in Berkshire visit BerkshireArtistree.co.uk/live-music-events
URL:https://berkshireartistree.co.uk/live-music-event/open-mic-at-the-oakingham-belle-wokingham/2026-04-03/
LOCATION:The Oakingham Belle\, Oak Ave\, Wokingham\, RG40 1LH
CATEGORIES:Open mic
ATTACH;FMTTYPE=image/jpeg:https://berkshireartistree.co.uk/wp-content/uploads/2026/01/Open-Mic-at-The-Oakingham-Belle_Wokingham.jpg
END:VEVENT
END:VCALENDAR