BEGIN:VCALENDAR
VERSION:2.0
PRODID:-//Berkshire Artistree - ECPv6.15.20//NONSGML v1.0//EN
CALSCALE:GREGORIAN
METHOD:PUBLISH
X-ORIGINAL-URL:https://berkshireartistree.co.uk
X-WR-CALDESC:Events for Berkshire Artistree
REFRESH-INTERVAL;VALUE=DURATION:PT1H
X-Robots-Tag:noindex
X-PUBLISHED-TTL:PT1H
BEGIN:VTIMEZONE
TZID:UTC
BEGIN:STANDARD
TZOFFSETFROM:+0000
TZOFFSETTO:+0000
TZNAME:UTC
DTSTART:20250101T000000
END:STANDARD
END:VTIMEZONE
BEGIN:VEVENT
DTSTART;TZID=UTC:20260502T183000
DTEND;TZID=UTC:20260502T203000
DTSTAMP:20260423T191926
CREATED:20260330T110220Z
LAST-MODIFIED:20260419T120620Z
UID:10009921-1777746600-1777753800@berkshireartistree.co.uk
SUMMARY:Live music  in Newbury\, The Retreat | Easter Special
DESCRIPTION:Celebrate the Easter bank holiday with live music from One Eyed Man\nIndie-folk artist One Eyed Man performing at Retreat Elcot Park offers a family-friendly Easter Bank Holiday live music experience\, creating a relaxed and welcoming atmosphere in Newbury. \nKey Points \n➖ Berkshire-based indie-folk artist with a warm\, intimate acoustic style➖ Easter Bank Holiday event perfect for a seasonal outing➖ Family-friendly setting suitable for all ages➖ Thoughtful blend of original songs and familiar covers➖ Elegant country house venue with seasonal dining and crafted drinks \nA laid-back Easter Bank Holiday performance at Retreat Elcot Park\nOne Eyed Man at Retreat Elcot Park provides the ideal soundtrack for the Easter Bank Holiday\, combining gentle acoustic melodies with an inviting live atmosphere. His warm vocals and reflective songwriting create an easy\, uplifting mood that appeals to a broad audience. Furthermore\, his stripped-back approach keeps each performance clear and engaging\, allowing the songs to resonate naturally. By mixing original material with carefully selected covers\, he delivers a set that feels both fresh and familiar. As a result\, families and music lovers alike can enjoy a performance that is sincere\, accessible\, and memorable. \nLuxury hotel outside Newbury\nThe setting enhances the occasion. Retreat Elcot Park’s beautifully restored country house offers a comfortable and refined environment\, perfect for a relaxed bank holiday gathering. Guests can enjoy seasonal dishes made with quality ingredients\, alongside a well-curated drinks selection. Meanwhile\, the spacious and welcoming atmosphere ensures that visitors of all ages can settle in and enjoy the experience together. \nFor those seeking a family-friendly Easter Bank Holiday event\, One Eyed Man at Retreat Elcot Park brings together live music\, hospitality\, and a warm seasonal ambience—making it a standout way to enjoy the long weekend. \nFor more live music check out Berkshireartistree.co.uk/live-music-events/
URL:https://berkshireartistree.co.uk/live-music-event/live-music-in-newbury-the-retreat-easter-special/2026-05-02/
LOCATION:The Retreat\, Newbury\, Elcot\,
CATEGORIES:Live Music
ATTACH;FMTTYPE=image/png:https://berkshireartistree.co.uk/wp-content/uploads/2026/03/live-music_bank-holiday.png
END:VEVENT
BEGIN:VEVENT
DTSTART;TZID=UTC:20260508T173000
DTEND;TZID=UTC:20260508T193000
DTSTAMP:20260423T191926
CREATED:20260221T182150Z
LAST-MODIFIED:20260418T085458Z
UID:10009915-1778261400-1778268600@berkshireartistree.co.uk
SUMMARY:Live music in Newbury | The Retreat
DESCRIPTION:Live music in Newbury\, The Retreat\nWith performance from One Eyed Man\nIndie-folk artist One Eyed Man performs live music in Newbury\, at The Retreat in Elcot Park. His set promises a relaxed yet refined evening of acoustic covers in this elegant country hotel setting. \nQuick Look\n➖ Berkshire-based indie-folk artist with warm\, intimate acoustic style➖ A live set blending thoughtful originals and familiar covers➖ Country house setting with seasonal dining and crafted cocktails \nOne Eyed Man at Retreat Newbury highlights a performer known for warm vocals and reflective songwriting. His acoustic approach keeps each arrangement simple and direct. As a result\, the focus stays on melody and lyrical clarity. He blends original songs with carefully chosen covers. This mix keeps the set engaging while maintaining a consistent tone. Audiences can expect a performance that feels personal\, sincere\, and easy to connect with. Moreover\, his natural stage presence suits listeners who value subtle musicianship over spectacle. \nRetreat Elcot Park enhances the experience with its stylish yet welcoming atmosphere. The beautifully restored country house creates a comfortable backdrop for live indie-folk. Guests can enjoy seasonal dishes prepared with quality ingredients. The menu pairs well with a thoughtful wine list and expertly crafted cocktails. Additionally\, attentive service and relaxed surroundings encourage guests to settle in and savour the evening. The setting supports the music rather than overpowering it. \nFor those seeking an upcoming event that combines authentic live performance with refined hospitality\, One Eyed Man at Retreat offers an evening defined by warmth\, flavour\, and understated elegance. \nFind more live music check out our full events calendar! \n 
URL:https://berkshireartistree.co.uk/live-music-event/live-music-in-newbury-the-retreat/2026-05-08/
LOCATION:The Retreat\, Newbury\, Elcot\,
CATEGORIES:Live Music
ATTACH;FMTTYPE=image/jpeg:https://berkshireartistree.co.uk/wp-content/uploads/2024/09/One-Eyed-Man_Stuart-Hutton_2_berkshire-artistree.jpg
END:VEVENT
BEGIN:VEVENT
DTSTART;TZID=UTC:20260509T180000
DTEND;TZID=UTC:20260509T200000
DTSTAMP:20260423T191926
CREATED:20260221T182150Z
LAST-MODIFIED:20260418T085458Z
UID:10009916-1778349600-1778356800@berkshireartistree.co.uk
SUMMARY:Live music in Newbury | The Retreat
DESCRIPTION:Live music in Newbury\, The Retreat\nWith performance from One Eyed Man\nIndie-folk artist One Eyed Man performs live music in Newbury\, at The Retreat in Elcot Park. His set promises a relaxed yet refined evening of acoustic covers in this elegant country hotel setting. \nQuick Look\n➖ Berkshire-based indie-folk artist with warm\, intimate acoustic style➖ A live set blending thoughtful originals and familiar covers➖ Country house setting with seasonal dining and crafted cocktails \nOne Eyed Man at Retreat Newbury highlights a performer known for warm vocals and reflective songwriting. His acoustic approach keeps each arrangement simple and direct. As a result\, the focus stays on melody and lyrical clarity. He blends original songs with carefully chosen covers. This mix keeps the set engaging while maintaining a consistent tone. Audiences can expect a performance that feels personal\, sincere\, and easy to connect with. Moreover\, his natural stage presence suits listeners who value subtle musicianship over spectacle. \nRetreat Elcot Park enhances the experience with its stylish yet welcoming atmosphere. The beautifully restored country house creates a comfortable backdrop for live indie-folk. Guests can enjoy seasonal dishes prepared with quality ingredients. The menu pairs well with a thoughtful wine list and expertly crafted cocktails. Additionally\, attentive service and relaxed surroundings encourage guests to settle in and savour the evening. The setting supports the music rather than overpowering it. \nFor those seeking an upcoming event that combines authentic live performance with refined hospitality\, One Eyed Man at Retreat offers an evening defined by warmth\, flavour\, and understated elegance. \nFind more live music check out our full events calendar! \n 
URL:https://berkshireartistree.co.uk/live-music-event/live-music-in-newbury-the-retreat/2026-05-09/
LOCATION:The Retreat\, Newbury\, Elcot\,
CATEGORIES:Live Music
ATTACH;FMTTYPE=image/jpeg:https://berkshireartistree.co.uk/wp-content/uploads/2024/09/One-Eyed-Man_Stuart-Hutton_2_berkshire-artistree.jpg
END:VEVENT
END:VCALENDAR