BEGIN:VCALENDAR
VERSION:2.0
PRODID:-//Berkshire Artistree - ECPv6.15.20//NONSGML v1.0//EN
CALSCALE:GREGORIAN
METHOD:PUBLISH
X-ORIGINAL-URL:https://berkshireartistree.co.uk
X-WR-CALDESC:Events for Berkshire Artistree
REFRESH-INTERVAL;VALUE=DURATION:PT1H
X-Robots-Tag:noindex
X-PUBLISHED-TTL:PT1H
BEGIN:VTIMEZONE
TZID:UTC
BEGIN:STANDARD
TZOFFSETFROM:+0000
TZOFFSETTO:+0000
TZNAME:UTC
DTSTART:20250101T000000
END:STANDARD
END:VTIMEZONE
BEGIN:VEVENT
DTSTART;TZID=UTC:20260424T200000
DTEND;TZID=UTC:20260424T230000
DTSTAMP:20260423T173818
CREATED:20260225T140419Z
LAST-MODIFIED:20260225T142349Z
UID:10009516-1777060800-1777071600@berkshireartistree.co.uk
SUMMARY:Live music at The Rising Sun Arts Centre\, Reading | Future Transmissions Presents- Ben Marwood & Matt Stockl
DESCRIPTION:Live Music at The Rising Sun Arts Centre\, Reading\nWith Future Transmissions Presents- Ben Marwood & Matt Stockl performing live \nSee more information on Future Transmissions Presents- Ben Marwood & Matt Stockl visit the organiser link below\, or visit the venue link to see more about The Rising Sun Arts Centre\, Reading. \nFor more live music in Berkshire visit BerkshireArtistree.co.uk/live-music-events
URL:https://berkshireartistree.co.uk/live-music-event/live-music-at-the-rising-sun-arts-centre-reading-future-transmissions-presents-ben-marwood-matt-stockl/
LOCATION:The Rising Sun Arts Centre\, Reading\, 30 Silver St\, Reading\, RG1 2ST\, United Kingdom
CATEGORIES:Original Music
ATTACH;FMTTYPE=image/png:https://berkshireartistree.co.uk/wp-content/uploads/2025/02/Rising-Sun-Arts-Centre_Open-mic.png
END:VEVENT
BEGIN:VEVENT
DTSTART;TZID=UTC:20260425T193000
DTEND;TZID=UTC:20260425T230000
DTSTAMP:20260423T173818
CREATED:20260415T145636Z
LAST-MODIFIED:20260415T145715Z
UID:10009881-1777145400-1777158000@berkshireartistree.co.uk
SUMMARY:Variety night at The Rising Sun Arts Centre | Reading
DESCRIPTION:Local artists showcasing original music\n• APPLY TO PLAY \nVariety Night at The Rising Sun Arts Centre is an inclusive upcoming live showcase that brings a broad mix of performers into one of Reading’s most characterful grassroots venues. \n➖ Monthly live music showcase in Reading ➖ Welcomes musicians\, magicians\, drag acts\, poets\, rappers\, singers\, and songwriters ➖ Set in an independent community arts venue known for supporting live music and local artists ➖ Suits audiences who enjoy variety\, discovery\, and a creative grassroots atmosphere \nVariety Night at The Rising Sun Arts Centre\nVariety Night stands out because it is built around live performance in many forms\, not just one scene or sound. That gives the evening a lively\, unpredictable edge. You might catch a strong singer-songwriter set\, then a poet\, then a comic or drag performer. As a result\, the event feels open\, social\, and full of discovery. For anyone searching for Variety Night at The Rising Sun Arts Centre\, the appeal is clear: fresh acts\, different styles\, and a crowd that is there to engage. \nThe venue adds even more value. The Rising Sun Arts Centre is an independent Reading space with a real grassroots identity\, regular live music programming\, and a reputation for backing local and emerging talent. Its historic setting and community-led energy create the right balance of intimacy and buzz\, so performances can feel both relaxed and memorable. \nAltogether\, this is the kind of event that rewards curiosity. Whether you go to support performers\, find new favourites\, or simply enjoy a more varied night out\, Variety Night at The Rising Sun Arts Centre offers a creative experience with genuine local character. \nCalling all artists\nIf you’re looking to make your way into paid performances\, this is your chance to play! You can apply here to be considered for future showcases. \nFor more live music check out Berkshireartistree.co.uk/live-music-events/
URL:https://berkshireartistree.co.uk/live-music-event/variety-night-at-the-rising-sun-arts-centre-reading/2026-04-25/
LOCATION:The Rising Sun Arts Centre\, Reading\, 30 Silver St\, Reading\, RG1 2ST\, United Kingdom
CATEGORIES:Original Music
ATTACH;FMTTYPE=image/jpeg:https://berkshireartistree.co.uk/wp-content/uploads/2026/04/rising-sun-arts-centre_variety-night_live-music.jpeg
END:VEVENT
BEGIN:VEVENT
DTSTART;TZID=UTC:20260429T190000
DTEND;TZID=UTC:20260429T213000
DTSTAMP:20260423T173818
CREATED:20241030T081720Z
LAST-MODIFIED:20241120T172211Z
UID:10009291-1777489200-1777498200@berkshireartistree.co.uk
SUMMARY:Artist Link-Up at The Rising Sun Arts Centre\, Reading
DESCRIPTION:Artist Link-Up at The Rising Sun Arts Centre\, Reading\nhosted by Only Adz \n• Every Wednesday \nArtist Link-Up is a great networking event for producers\, rappers\, artists and poets of all levels. Run by local artist Only Adz\, this event attracts more hip-hop and R&B style artists. See the venue and organiser links below for more details. \nFor more live music in Berkshire visit BerkshireArtistree.co.uk/live-music-events
URL:https://berkshireartistree.co.uk/live-music-event/artist-link-up-at-the-rising-sun-arts-centre-reading/2026-04-29/
LOCATION:The Rising Sun Arts Centre\, Reading\, 30 Silver St\, Reading\, RG1 2ST\, United Kingdom
ATTACH;FMTTYPE=image/jpeg:https://berkshireartistree.co.uk/wp-content/uploads/2024/04/Artist-Link-Up_Berkshire-Artistree_2.jpeg
END:VEVENT
BEGIN:VEVENT
DTSTART;TZID=UTC:20260503T193000
DTEND;TZID=UTC:20260503T220000
DTSTAMP:20260423T173818
CREATED:20250813T121314Z
LAST-MODIFIED:20250813T123147Z
UID:10009363-1777836600-1777845600@berkshireartistree.co.uk
SUMMARY:Dreading Slam at the Rising Arts Centre\, Reading
DESCRIPTION:Dreading Slam at the Rising Arts Centre\, Reading\nhosted by Dreading Slam \n• Every 1st Sunday \nDreading Slam is a poetry competition held first Sunday of the month. Unleash your talent at one of Reading’s top open mic nights\, hosted at the vibrant Rising Arts Centre. Whether you perform poetry\, comedy\, music\, or spoken word\, this is your stage to shine. \nThe Rising Arts Centre offers a welcoming\, creative space in the heart of Reading. Step into an inspiring venue where local artists and performers gather to share their craft. Audiences can enjoy a relaxed\, friendly atmosphere while discovering fresh talent from the area. \nDreading Slam welcomes performers of all levels\, from beginner to expert. Sign up and showcase your skills to an enthusiastic\, supportive crowd. Each performance gets genuine attention\, giving both newcomers and seasoned artists a chance to thrive. \nFor spectators\, it’s a night packed with energy and creativity. Expect laughter\, thought-provoking poetry\, and memorable musical moments. Connect with local performers\, meet other art lovers\, and immerse yourself in Reading’s buzzing arts scene. \nWhether you live in Reading\, Wokingham\, Newbury\, or the surrounding Berkshire area\, Dreading Slam is the perfect night out. Attend as a performer or a fan—you’ll leave inspired and entertained. \nCheck out our events calendar for more information on the next event\, or you can join the Dreading Slam Facebook group for updates\, sign-up details\, and behind-the-scenes news. Don’t miss your chance to be part of Reading’s thriving creative community! \nPerform. Watch. Connect. Dreading Slam turns ordinary evenings into extraordinary experiences. Make your mark on the local arts scene today. See Dreading Slam for more details. \nFor more live music in Berkshire visit our events page.
URL:https://berkshireartistree.co.uk/live-music-event/dreading-slam-at-the-rising-arts-centre-reading/2026-05-03/
LOCATION:The Rising Sun Arts Centre\, Reading\, 30 Silver St\, Reading\, RG1 2ST\, United Kingdom
CATEGORIES:Open mic,Poetry
ATTACH;FMTTYPE=image/jpeg:https://berkshireartistree.co.uk/wp-content/uploads/2025/08/Dreading-Slam_Rising-Sun-Arts-Centre_Reading_Poetry-Night.jpg
END:VEVENT
BEGIN:VEVENT
DTSTART;TZID=UTC:20260506T190000
DTEND;TZID=UTC:20260506T213000
DTSTAMP:20260423T173818
CREATED:20241030T081720Z
LAST-MODIFIED:20241120T172211Z
UID:10009389-1778094000-1778103000@berkshireartistree.co.uk
SUMMARY:Artist Link-Up at The Rising Sun Arts Centre\, Reading
DESCRIPTION:Artist Link-Up at The Rising Sun Arts Centre\, Reading\nhosted by Only Adz \n• Every Wednesday \nArtist Link-Up is a great networking event for producers\, rappers\, artists and poets of all levels. Run by local artist Only Adz\, this event attracts more hip-hop and R&B style artists. See the venue and organiser links below for more details. \nFor more live music in Berkshire visit BerkshireArtistree.co.uk/live-music-events
URL:https://berkshireartistree.co.uk/live-music-event/artist-link-up-at-the-rising-sun-arts-centre-reading/2026-05-06/
LOCATION:The Rising Sun Arts Centre\, Reading\, 30 Silver St\, Reading\, RG1 2ST\, United Kingdom
ATTACH;FMTTYPE=image/jpeg:https://berkshireartistree.co.uk/wp-content/uploads/2024/04/Artist-Link-Up_Berkshire-Artistree_2.jpeg
END:VEVENT
BEGIN:VEVENT
DTSTART;TZID=UTC:20260513T190000
DTEND;TZID=UTC:20260513T213000
DTSTAMP:20260423T173818
CREATED:20241030T081720Z
LAST-MODIFIED:20241120T172211Z
UID:10009441-1778698800-1778707800@berkshireartistree.co.uk
SUMMARY:Artist Link-Up at The Rising Sun Arts Centre\, Reading
DESCRIPTION:Artist Link-Up at The Rising Sun Arts Centre\, Reading\nhosted by Only Adz \n• Every Wednesday \nArtist Link-Up is a great networking event for producers\, rappers\, artists and poets of all levels. Run by local artist Only Adz\, this event attracts more hip-hop and R&B style artists. See the venue and organiser links below for more details. \nFor more live music in Berkshire visit BerkshireArtistree.co.uk/live-music-events
URL:https://berkshireartistree.co.uk/live-music-event/artist-link-up-at-the-rising-sun-arts-centre-reading/2026-05-13/
LOCATION:The Rising Sun Arts Centre\, Reading\, 30 Silver St\, Reading\, RG1 2ST\, United Kingdom
ATTACH;FMTTYPE=image/jpeg:https://berkshireartistree.co.uk/wp-content/uploads/2024/04/Artist-Link-Up_Berkshire-Artistree_2.jpeg
END:VEVENT
BEGIN:VEVENT
DTSTART;TZID=UTC:20260520T190000
DTEND;TZID=UTC:20260520T213000
DTSTAMP:20260423T173818
CREATED:20241030T081720Z
LAST-MODIFIED:20241120T172211Z
UID:10009504-1779303600-1779312600@berkshireartistree.co.uk
SUMMARY:Artist Link-Up at The Rising Sun Arts Centre\, Reading
DESCRIPTION:Artist Link-Up at The Rising Sun Arts Centre\, Reading\nhosted by Only Adz \n• Every Wednesday \nArtist Link-Up is a great networking event for producers\, rappers\, artists and poets of all levels. Run by local artist Only Adz\, this event attracts more hip-hop and R&B style artists. See the venue and organiser links below for more details. \nFor more live music in Berkshire visit BerkshireArtistree.co.uk/live-music-events
URL:https://berkshireartistree.co.uk/live-music-event/artist-link-up-at-the-rising-sun-arts-centre-reading/2026-05-20/
LOCATION:The Rising Sun Arts Centre\, Reading\, 30 Silver St\, Reading\, RG1 2ST\, United Kingdom
ATTACH;FMTTYPE=image/jpeg:https://berkshireartistree.co.uk/wp-content/uploads/2024/04/Artist-Link-Up_Berkshire-Artistree_2.jpeg
END:VEVENT
BEGIN:VEVENT
DTSTART;TZID=UTC:20260527T190000
DTEND;TZID=UTC:20260527T213000
DTSTAMP:20260423T173818
CREATED:20241030T081720Z
LAST-MODIFIED:20241120T172211Z
UID:10009601-1779908400-1779917400@berkshireartistree.co.uk
SUMMARY:Artist Link-Up at The Rising Sun Arts Centre\, Reading
DESCRIPTION:Artist Link-Up at The Rising Sun Arts Centre\, Reading\nhosted by Only Adz \n• Every Wednesday \nArtist Link-Up is a great networking event for producers\, rappers\, artists and poets of all levels. Run by local artist Only Adz\, this event attracts more hip-hop and R&B style artists. See the venue and organiser links below for more details. \nFor more live music in Berkshire visit BerkshireArtistree.co.uk/live-music-events
URL:https://berkshireartistree.co.uk/live-music-event/artist-link-up-at-the-rising-sun-arts-centre-reading/2026-05-27/
LOCATION:The Rising Sun Arts Centre\, Reading\, 30 Silver St\, Reading\, RG1 2ST\, United Kingdom
ATTACH;FMTTYPE=image/jpeg:https://berkshireartistree.co.uk/wp-content/uploads/2024/04/Artist-Link-Up_Berkshire-Artistree_2.jpeg
END:VEVENT
BEGIN:VEVENT
DTSTART;TZID=UTC:20260530T193000
DTEND;TZID=UTC:20260530T230000
DTSTAMP:20260423T173818
CREATED:20260415T145636Z
LAST-MODIFIED:20260415T145715Z
UID:10009882-1780169400-1780182000@berkshireartistree.co.uk
SUMMARY:Variety night at The Rising Sun Arts Centre | Reading
DESCRIPTION:Local artists showcasing original music\n• APPLY TO PLAY \nVariety Night at The Rising Sun Arts Centre is an inclusive upcoming live showcase that brings a broad mix of performers into one of Reading’s most characterful grassroots venues. \n➖ Monthly live music showcase in Reading ➖ Welcomes musicians\, magicians\, drag acts\, poets\, rappers\, singers\, and songwriters ➖ Set in an independent community arts venue known for supporting live music and local artists ➖ Suits audiences who enjoy variety\, discovery\, and a creative grassroots atmosphere \nVariety Night at The Rising Sun Arts Centre\nVariety Night stands out because it is built around live performance in many forms\, not just one scene or sound. That gives the evening a lively\, unpredictable edge. You might catch a strong singer-songwriter set\, then a poet\, then a comic or drag performer. As a result\, the event feels open\, social\, and full of discovery. For anyone searching for Variety Night at The Rising Sun Arts Centre\, the appeal is clear: fresh acts\, different styles\, and a crowd that is there to engage. \nThe venue adds even more value. The Rising Sun Arts Centre is an independent Reading space with a real grassroots identity\, regular live music programming\, and a reputation for backing local and emerging talent. Its historic setting and community-led energy create the right balance of intimacy and buzz\, so performances can feel both relaxed and memorable. \nAltogether\, this is the kind of event that rewards curiosity. Whether you go to support performers\, find new favourites\, or simply enjoy a more varied night out\, Variety Night at The Rising Sun Arts Centre offers a creative experience with genuine local character. \nCalling all artists\nIf you’re looking to make your way into paid performances\, this is your chance to play! You can apply here to be considered for future showcases. \nFor more live music check out Berkshireartistree.co.uk/live-music-events/
URL:https://berkshireartistree.co.uk/live-music-event/variety-night-at-the-rising-sun-arts-centre-reading/2026-05-30/
LOCATION:The Rising Sun Arts Centre\, Reading\, 30 Silver St\, Reading\, RG1 2ST\, United Kingdom
CATEGORIES:Original Music
ATTACH;FMTTYPE=image/jpeg:https://berkshireartistree.co.uk/wp-content/uploads/2026/04/rising-sun-arts-centre_variety-night_live-music.jpeg
END:VEVENT
BEGIN:VEVENT
DTSTART;TZID=UTC:20260603T190000
DTEND;TZID=UTC:20260603T213000
DTSTAMP:20260423T173818
CREATED:20241030T081720Z
LAST-MODIFIED:20241120T172211Z
UID:10009635-1780513200-1780522200@berkshireartistree.co.uk
SUMMARY:Artist Link-Up at The Rising Sun Arts Centre\, Reading
DESCRIPTION:Artist Link-Up at The Rising Sun Arts Centre\, Reading\nhosted by Only Adz \n• Every Wednesday \nArtist Link-Up is a great networking event for producers\, rappers\, artists and poets of all levels. Run by local artist Only Adz\, this event attracts more hip-hop and R&B style artists. See the venue and organiser links below for more details. \nFor more live music in Berkshire visit BerkshireArtistree.co.uk/live-music-events
URL:https://berkshireartistree.co.uk/live-music-event/artist-link-up-at-the-rising-sun-arts-centre-reading/2026-06-03/
LOCATION:The Rising Sun Arts Centre\, Reading\, 30 Silver St\, Reading\, RG1 2ST\, United Kingdom
ATTACH;FMTTYPE=image/jpeg:https://berkshireartistree.co.uk/wp-content/uploads/2024/04/Artist-Link-Up_Berkshire-Artistree_2.jpeg
END:VEVENT
BEGIN:VEVENT
DTSTART;TZID=UTC:20260607T193000
DTEND;TZID=UTC:20260607T220000
DTSTAMP:20260423T173818
CREATED:20250813T121314Z
LAST-MODIFIED:20250813T123147Z
UID:10009819-1780860600-1780869600@berkshireartistree.co.uk
SUMMARY:Dreading Slam at the Rising Arts Centre\, Reading
DESCRIPTION:Dreading Slam at the Rising Arts Centre\, Reading\nhosted by Dreading Slam \n• Every 1st Sunday \nDreading Slam is a poetry competition held first Sunday of the month. Unleash your talent at one of Reading’s top open mic nights\, hosted at the vibrant Rising Arts Centre. Whether you perform poetry\, comedy\, music\, or spoken word\, this is your stage to shine. \nThe Rising Arts Centre offers a welcoming\, creative space in the heart of Reading. Step into an inspiring venue where local artists and performers gather to share their craft. Audiences can enjoy a relaxed\, friendly atmosphere while discovering fresh talent from the area. \nDreading Slam welcomes performers of all levels\, from beginner to expert. Sign up and showcase your skills to an enthusiastic\, supportive crowd. Each performance gets genuine attention\, giving both newcomers and seasoned artists a chance to thrive. \nFor spectators\, it’s a night packed with energy and creativity. Expect laughter\, thought-provoking poetry\, and memorable musical moments. Connect with local performers\, meet other art lovers\, and immerse yourself in Reading’s buzzing arts scene. \nWhether you live in Reading\, Wokingham\, Newbury\, or the surrounding Berkshire area\, Dreading Slam is the perfect night out. Attend as a performer or a fan—you’ll leave inspired and entertained. \nCheck out our events calendar for more information on the next event\, or you can join the Dreading Slam Facebook group for updates\, sign-up details\, and behind-the-scenes news. Don’t miss your chance to be part of Reading’s thriving creative community! \nPerform. Watch. Connect. Dreading Slam turns ordinary evenings into extraordinary experiences. Make your mark on the local arts scene today. See Dreading Slam for more details. \nFor more live music in Berkshire visit our events page.
URL:https://berkshireartistree.co.uk/live-music-event/dreading-slam-at-the-rising-arts-centre-reading/2026-06-07/
LOCATION:The Rising Sun Arts Centre\, Reading\, 30 Silver St\, Reading\, RG1 2ST\, United Kingdom
CATEGORIES:Open mic,Poetry
ATTACH;FMTTYPE=image/jpeg:https://berkshireartistree.co.uk/wp-content/uploads/2025/08/Dreading-Slam_Rising-Sun-Arts-Centre_Reading_Poetry-Night.jpg
END:VEVENT
BEGIN:VEVENT
DTSTART;TZID=UTC:20260610T190000
DTEND;TZID=UTC:20260610T213000
DTSTAMP:20260423T173818
CREATED:20241030T081720Z
LAST-MODIFIED:20241120T172211Z
UID:10009675-1781118000-1781127000@berkshireartistree.co.uk
SUMMARY:Artist Link-Up at The Rising Sun Arts Centre\, Reading
DESCRIPTION:Artist Link-Up at The Rising Sun Arts Centre\, Reading\nhosted by Only Adz \n• Every Wednesday \nArtist Link-Up is a great networking event for producers\, rappers\, artists and poets of all levels. Run by local artist Only Adz\, this event attracts more hip-hop and R&B style artists. See the venue and organiser links below for more details. \nFor more live music in Berkshire visit BerkshireArtistree.co.uk/live-music-events
URL:https://berkshireartistree.co.uk/live-music-event/artist-link-up-at-the-rising-sun-arts-centre-reading/2026-06-10/
LOCATION:The Rising Sun Arts Centre\, Reading\, 30 Silver St\, Reading\, RG1 2ST\, United Kingdom
ATTACH;FMTTYPE=image/jpeg:https://berkshireartistree.co.uk/wp-content/uploads/2024/04/Artist-Link-Up_Berkshire-Artistree_2.jpeg
END:VEVENT
BEGIN:VEVENT
DTSTART;TZID=UTC:20260617T190000
DTEND;TZID=UTC:20260617T213000
DTSTAMP:20260423T173818
CREATED:20241030T081720Z
LAST-MODIFIED:20241120T172211Z
UID:10009704-1781722800-1781731800@berkshireartistree.co.uk
SUMMARY:Artist Link-Up at The Rising Sun Arts Centre\, Reading
DESCRIPTION:Artist Link-Up at The Rising Sun Arts Centre\, Reading\nhosted by Only Adz \n• Every Wednesday \nArtist Link-Up is a great networking event for producers\, rappers\, artists and poets of all levels. Run by local artist Only Adz\, this event attracts more hip-hop and R&B style artists. See the venue and organiser links below for more details. \nFor more live music in Berkshire visit BerkshireArtistree.co.uk/live-music-events
URL:https://berkshireartistree.co.uk/live-music-event/artist-link-up-at-the-rising-sun-arts-centre-reading/2026-06-17/
LOCATION:The Rising Sun Arts Centre\, Reading\, 30 Silver St\, Reading\, RG1 2ST\, United Kingdom
ATTACH;FMTTYPE=image/jpeg:https://berkshireartistree.co.uk/wp-content/uploads/2024/04/Artist-Link-Up_Berkshire-Artistree_2.jpeg
END:VEVENT
BEGIN:VEVENT
DTSTART;TZID=UTC:20260624T190000
DTEND;TZID=UTC:20260624T213000
DTSTAMP:20260423T173818
CREATED:20241030T081720Z
LAST-MODIFIED:20241120T172211Z
UID:10009758-1782327600-1782336600@berkshireartistree.co.uk
SUMMARY:Artist Link-Up at The Rising Sun Arts Centre\, Reading
DESCRIPTION:Artist Link-Up at The Rising Sun Arts Centre\, Reading\nhosted by Only Adz \n• Every Wednesday \nArtist Link-Up is a great networking event for producers\, rappers\, artists and poets of all levels. Run by local artist Only Adz\, this event attracts more hip-hop and R&B style artists. See the venue and organiser links below for more details. \nFor more live music in Berkshire visit BerkshireArtistree.co.uk/live-music-events
URL:https://berkshireartistree.co.uk/live-music-event/artist-link-up-at-the-rising-sun-arts-centre-reading/2026-06-24/
LOCATION:The Rising Sun Arts Centre\, Reading\, 30 Silver St\, Reading\, RG1 2ST\, United Kingdom
ATTACH;FMTTYPE=image/jpeg:https://berkshireartistree.co.uk/wp-content/uploads/2024/04/Artist-Link-Up_Berkshire-Artistree_2.jpeg
END:VEVENT
BEGIN:VEVENT
DTSTART;TZID=UTC:20260627T193000
DTEND;TZID=UTC:20260627T230000
DTSTAMP:20260423T173818
CREATED:20260415T145636Z
LAST-MODIFIED:20260415T145715Z
UID:10009883-1782588600-1782601200@berkshireartistree.co.uk
SUMMARY:Variety night at The Rising Sun Arts Centre | Reading
DESCRIPTION:Local artists showcasing original music\n• APPLY TO PLAY \nVariety Night at The Rising Sun Arts Centre is an inclusive upcoming live showcase that brings a broad mix of performers into one of Reading’s most characterful grassroots venues. \n➖ Monthly live music showcase in Reading ➖ Welcomes musicians\, magicians\, drag acts\, poets\, rappers\, singers\, and songwriters ➖ Set in an independent community arts venue known for supporting live music and local artists ➖ Suits audiences who enjoy variety\, discovery\, and a creative grassroots atmosphere \nVariety Night at The Rising Sun Arts Centre\nVariety Night stands out because it is built around live performance in many forms\, not just one scene or sound. That gives the evening a lively\, unpredictable edge. You might catch a strong singer-songwriter set\, then a poet\, then a comic or drag performer. As a result\, the event feels open\, social\, and full of discovery. For anyone searching for Variety Night at The Rising Sun Arts Centre\, the appeal is clear: fresh acts\, different styles\, and a crowd that is there to engage. \nThe venue adds even more value. The Rising Sun Arts Centre is an independent Reading space with a real grassroots identity\, regular live music programming\, and a reputation for backing local and emerging talent. Its historic setting and community-led energy create the right balance of intimacy and buzz\, so performances can feel both relaxed and memorable. \nAltogether\, this is the kind of event that rewards curiosity. Whether you go to support performers\, find new favourites\, or simply enjoy a more varied night out\, Variety Night at The Rising Sun Arts Centre offers a creative experience with genuine local character. \nCalling all artists\nIf you’re looking to make your way into paid performances\, this is your chance to play! You can apply here to be considered for future showcases. \nFor more live music check out Berkshireartistree.co.uk/live-music-events/
URL:https://berkshireartistree.co.uk/live-music-event/variety-night-at-the-rising-sun-arts-centre-reading/2026-06-27/
LOCATION:The Rising Sun Arts Centre\, Reading\, 30 Silver St\, Reading\, RG1 2ST\, United Kingdom
CATEGORIES:Original Music
ATTACH;FMTTYPE=image/jpeg:https://berkshireartistree.co.uk/wp-content/uploads/2026/04/rising-sun-arts-centre_variety-night_live-music.jpeg
END:VEVENT
BEGIN:VEVENT
DTSTART;TZID=UTC:20260701T190000
DTEND;TZID=UTC:20260701T213000
DTSTAMP:20260423T173818
CREATED:20241030T081720Z
LAST-MODIFIED:20241120T172211Z
UID:10009825-1782932400-1782941400@berkshireartistree.co.uk
SUMMARY:Artist Link-Up at The Rising Sun Arts Centre\, Reading
DESCRIPTION:Artist Link-Up at The Rising Sun Arts Centre\, Reading\nhosted by Only Adz \n• Every Wednesday \nArtist Link-Up is a great networking event for producers\, rappers\, artists and poets of all levels. Run by local artist Only Adz\, this event attracts more hip-hop and R&B style artists. See the venue and organiser links below for more details. \nFor more live music in Berkshire visit BerkshireArtistree.co.uk/live-music-events
URL:https://berkshireartistree.co.uk/live-music-event/artist-link-up-at-the-rising-sun-arts-centre-reading/2026-07-01/
LOCATION:The Rising Sun Arts Centre\, Reading\, 30 Silver St\, Reading\, RG1 2ST\, United Kingdom
ATTACH;FMTTYPE=image/jpeg:https://berkshireartistree.co.uk/wp-content/uploads/2024/04/Artist-Link-Up_Berkshire-Artistree_2.jpeg
END:VEVENT
BEGIN:VEVENT
DTSTART;TZID=UTC:20260708T190000
DTEND;TZID=UTC:20260708T213000
DTSTAMP:20260423T173818
CREATED:20241030T081720Z
LAST-MODIFIED:20241120T172211Z
UID:10009859-1783537200-1783546200@berkshireartistree.co.uk
SUMMARY:Artist Link-Up at The Rising Sun Arts Centre\, Reading
DESCRIPTION:Artist Link-Up at The Rising Sun Arts Centre\, Reading\nhosted by Only Adz \n• Every Wednesday \nArtist Link-Up is a great networking event for producers\, rappers\, artists and poets of all levels. Run by local artist Only Adz\, this event attracts more hip-hop and R&B style artists. See the venue and organiser links below for more details. \nFor more live music in Berkshire visit BerkshireArtistree.co.uk/live-music-events
URL:https://berkshireartistree.co.uk/live-music-event/artist-link-up-at-the-rising-sun-arts-centre-reading/2026-07-08/
LOCATION:The Rising Sun Arts Centre\, Reading\, 30 Silver St\, Reading\, RG1 2ST\, United Kingdom
ATTACH;FMTTYPE=image/jpeg:https://berkshireartistree.co.uk/wp-content/uploads/2024/04/Artist-Link-Up_Berkshire-Artistree_2.jpeg
END:VEVENT
BEGIN:VEVENT
DTSTART;TZID=UTC:20260715T190000
DTEND;TZID=UTC:20260715T213000
DTSTAMP:20260423T173818
CREATED:20241030T081720Z
LAST-MODIFIED:20241120T172211Z
UID:10009920-1784142000-1784151000@berkshireartistree.co.uk
SUMMARY:Artist Link-Up at The Rising Sun Arts Centre\, Reading
DESCRIPTION:Artist Link-Up at The Rising Sun Arts Centre\, Reading\nhosted by Only Adz \n• Every Wednesday \nArtist Link-Up is a great networking event for producers\, rappers\, artists and poets of all levels. Run by local artist Only Adz\, this event attracts more hip-hop and R&B style artists. See the venue and organiser links below for more details. \nFor more live music in Berkshire visit BerkshireArtistree.co.uk/live-music-events
URL:https://berkshireartistree.co.uk/live-music-event/artist-link-up-at-the-rising-sun-arts-centre-reading/2026-07-15/
LOCATION:The Rising Sun Arts Centre\, Reading\, 30 Silver St\, Reading\, RG1 2ST\, United Kingdom
ATTACH;FMTTYPE=image/jpeg:https://berkshireartistree.co.uk/wp-content/uploads/2024/04/Artist-Link-Up_Berkshire-Artistree_2.jpeg
END:VEVENT
END:VCALENDAR