BEGIN:VCALENDAR
VERSION:2.0
PRODID:-//Berkshire Artistree - ECPv6.15.20//NONSGML v1.0//EN
CALSCALE:GREGORIAN
METHOD:PUBLISH
X-ORIGINAL-URL:https://berkshireartistree.co.uk
X-WR-CALDESC:Events for Berkshire Artistree
REFRESH-INTERVAL;VALUE=DURATION:PT1H
X-Robots-Tag:noindex
X-PUBLISHED-TTL:PT1H
BEGIN:VTIMEZONE
TZID:UTC
BEGIN:STANDARD
TZOFFSETFROM:+0000
TZOFFSETTO:+0000
TZNAME:UTC
DTSTART:20250101T000000
END:STANDARD
END:VTIMEZONE
BEGIN:VEVENT
DTSTART;TZID=UTC:20260517T193000
DTEND;TZID=UTC:20260517T220000
DTSTAMP:20260423T202941
CREATED:20251124T091713Z
LAST-MODIFIED:20260328T095441Z
UID:10009801-1779046200-1779055200@berkshireartistree.co.uk
SUMMARY:Open Mic at the Two Poplars\, Wokingham
DESCRIPTION:Open Mic at the Two Poplars\, Wokingham\nhosted by Abi Powell Music \n• Every 3rd Sunday \n  \nLooking for a vibrant\, welcoming open mic night in Wokingham? Join us at Open Mic at The Two Poplars\, where local talent takes centre stage and community spirit thrives. \nThis monthly event is hosted by the brilliant Abi Powell\, a well-known local musician and event organiser. With years of experience supporting grassroots performers\, Abi brings warmth\, encouragement\, and great sound to every session. Her passion for live music makes this open mic a must for both performers and fans. \nSet in the heart of Wokingham\, the Two Poplars is a lively Greene King pub with a friendly team\, spacious seating\, and a fantastic selection of food and drinks. It’s the perfect backdrop for an evening of live entertainment. There’s also free parking and a large beer garden—ideal for summer sessions! \nWhether you’re a first-timer or a regular on the circuit\, you’ll feel right at home. Musicians\, poets\, comedians\, and spoken word artists are all welcome. You can sign up in advance or on the night. Expect a relaxed vibe\, supportive audience\, and a great mix of styles and sounds. \nDon’t miss one of the best open mic nights in Berkshire. Bring your instrument\, your voice\, or just your friends—and enjoy the show! \nFollow Abi Powell Presents on Facebook for upcoming dates and sign-up details. \nWokingham’s live music scene is alive and thriving. Be part of it at The Two Poplars! \n  \nFor more live music in Berkshire visit our events page.
URL:https://berkshireartistree.co.uk/live-music-event/open-mic-at-the-two-poplars-wokingham-2/2026-05-17/
LOCATION:The Two Poplars\, Wokingham\, 118 Finchampstead Rd\, Wokingham\, RG41 2NU\, United Kingdom
CATEGORIES:live music wokingham,Open mic
ATTACH;FMTTYPE=image/jpeg:https://berkshireartistree.co.uk/wp-content/uploads/2025/07/Open-Mic_two-poplars_wokingham-e1752065416382.jpg
END:VEVENT
BEGIN:VEVENT
DTSTART;TZID=UTC:20260621T193000
DTEND;TZID=UTC:20260621T220000
DTSTAMP:20260423T202941
CREATED:20251124T091713Z
LAST-MODIFIED:20260328T095441Z
UID:10009802-1782070200-1782079200@berkshireartistree.co.uk
SUMMARY:Open Mic at the Two Poplars\, Wokingham
DESCRIPTION:Open Mic at the Two Poplars\, Wokingham\nhosted by Abi Powell Music \n• Every 3rd Sunday \n  \nLooking for a vibrant\, welcoming open mic night in Wokingham? Join us at Open Mic at The Two Poplars\, where local talent takes centre stage and community spirit thrives. \nThis monthly event is hosted by the brilliant Abi Powell\, a well-known local musician and event organiser. With years of experience supporting grassroots performers\, Abi brings warmth\, encouragement\, and great sound to every session. Her passion for live music makes this open mic a must for both performers and fans. \nSet in the heart of Wokingham\, the Two Poplars is a lively Greene King pub with a friendly team\, spacious seating\, and a fantastic selection of food and drinks. It’s the perfect backdrop for an evening of live entertainment. There’s also free parking and a large beer garden—ideal for summer sessions! \nWhether you’re a first-timer or a regular on the circuit\, you’ll feel right at home. Musicians\, poets\, comedians\, and spoken word artists are all welcome. You can sign up in advance or on the night. Expect a relaxed vibe\, supportive audience\, and a great mix of styles and sounds. \nDon’t miss one of the best open mic nights in Berkshire. Bring your instrument\, your voice\, or just your friends—and enjoy the show! \nFollow Abi Powell Presents on Facebook for upcoming dates and sign-up details. \nWokingham’s live music scene is alive and thriving. Be part of it at The Two Poplars! \n  \nFor more live music in Berkshire visit our events page.
URL:https://berkshireartistree.co.uk/live-music-event/open-mic-at-the-two-poplars-wokingham-2/2026-06-21/
LOCATION:The Two Poplars\, Wokingham\, 118 Finchampstead Rd\, Wokingham\, RG41 2NU\, United Kingdom
CATEGORIES:live music wokingham,Open mic
ATTACH;FMTTYPE=image/jpeg:https://berkshireartistree.co.uk/wp-content/uploads/2025/07/Open-Mic_two-poplars_wokingham-e1752065416382.jpg
END:VEVENT
END:VCALENDAR