BEGIN:VCALENDAR
VERSION:2.0
PRODID:-//Berkshire Artistree - ECPv6.15.20//NONSGML v1.0//EN
CALSCALE:GREGORIAN
METHOD:PUBLISH
X-WR-CALNAME:Berkshire Artistree
X-ORIGINAL-URL:https://berkshireartistree.co.uk
X-WR-CALDESC:Events for Berkshire Artistree
REFRESH-INTERVAL;VALUE=DURATION:PT1H
X-Robots-Tag:noindex
X-PUBLISHED-TTL:PT1H
BEGIN:VTIMEZONE
TZID:UTC
BEGIN:STANDARD
TZOFFSETFROM:+0000
TZOFFSETTO:+0000
TZNAME:UTC
DTSTART:20250101T000000
END:STANDARD
END:VTIMEZONE
BEGIN:VEVENT
DTSTART;TZID=UTC:20260428T203000
DTEND;TZID=UTC:20260428T223000
DTSTAMP:20260423T191645
CREATED:20260325T131750Z
LAST-MODIFIED:20260325T141648Z
UID:10009748-1777408200-1777415400@berkshireartistree.co.uk
SUMMARY:Open Mic In Windsor | Vansittart Arms
DESCRIPTION:Open mic night at The Vansittart Arms Windsor\, hosted by Damian Delahunty\, offers a welcoming stage for emerging and seasoned performers in a relaxed\, community-driven setting. \nKey Points➖ Hosted by Damian Delahunty\, known for running engaging local open mic nights➖ Open to musicians\, singers\, and acoustic performers of all levels➖ Supportive audience encouraging new material and experimentation➖ Intimate pub setting perfect for stripped-back live sets➖ Strong community feel with opportunities to connect and collaborate \nOpen Mic at The Vansittart Arms Windsor\nThe Open Mic at The Vansittart Arms Windsor stands out as a vibrant grassroots music night\, guided by the experienced hand of Damian Delahunty. His approach creates a smooth\, inclusive evening where performers feel supported from the moment they step up. As a result\, the night flows naturally\, balancing fresh talent with more confident acts. \nEach session delivers a diverse mix of sounds\, from acoustic originals to crowd-pleasing covers\, giving the audience something new to enjoy throughout. Because of this variety\, the event keeps a lively pace while maintaining a relaxed\, easy-going charm. Performers benefit from an attentive crowd\, which helps build confidence and encourages creative expression. \nThe venue itself enhances the experience. With its cosy layout and welcoming atmosphere\, it fosters a close connection between artist and audience\, making every performance feel personal. Guests can settle in and enjoy the ambience while discovering emerging local talent. \nUltimately\, this is more than just an open mic. It’s a community-led live music experience that celebrates creativity and connection in Windsor. For both performers and music lovers\, it offers an authentic and rewarding night out. \nFor more live music check out Berkshireartistree.co.uk/live-music-events/
URL:https://berkshireartistree.co.uk/live-music-event/open-mic-in-windsor-vansittart-arms/2026-04-28/
LOCATION:The Vansittart Arms\, Windsor\, 105 Vansittart Rd\, Windsor\, SL4 5DD\, United Kingdom
CATEGORIES:Open mic
ATTACH;FMTTYPE=image/jpeg:https://berkshireartistree.co.uk/wp-content/uploads/2024/04/Vansittart-Arms_open-mic_Berkshire-Artistree.jpeg
END:VEVENT
BEGIN:VEVENT
DTSTART;TZID=UTC:20260505T203000
DTEND;TZID=UTC:20260505T223000
DTSTAMP:20260423T191645
CREATED:20260325T131750Z
LAST-MODIFIED:20260325T141648Z
UID:10009749-1778013000-1778020200@berkshireartistree.co.uk
SUMMARY:Open Mic In Windsor | Vansittart Arms
DESCRIPTION:Open mic night at The Vansittart Arms Windsor\, hosted by Damian Delahunty\, offers a welcoming stage for emerging and seasoned performers in a relaxed\, community-driven setting. \nKey Points➖ Hosted by Damian Delahunty\, known for running engaging local open mic nights➖ Open to musicians\, singers\, and acoustic performers of all levels➖ Supportive audience encouraging new material and experimentation➖ Intimate pub setting perfect for stripped-back live sets➖ Strong community feel with opportunities to connect and collaborate \nOpen Mic at The Vansittart Arms Windsor\nThe Open Mic at The Vansittart Arms Windsor stands out as a vibrant grassroots music night\, guided by the experienced hand of Damian Delahunty. His approach creates a smooth\, inclusive evening where performers feel supported from the moment they step up. As a result\, the night flows naturally\, balancing fresh talent with more confident acts. \nEach session delivers a diverse mix of sounds\, from acoustic originals to crowd-pleasing covers\, giving the audience something new to enjoy throughout. Because of this variety\, the event keeps a lively pace while maintaining a relaxed\, easy-going charm. Performers benefit from an attentive crowd\, which helps build confidence and encourages creative expression. \nThe venue itself enhances the experience. With its cosy layout and welcoming atmosphere\, it fosters a close connection between artist and audience\, making every performance feel personal. Guests can settle in and enjoy the ambience while discovering emerging local talent. \nUltimately\, this is more than just an open mic. It’s a community-led live music experience that celebrates creativity and connection in Windsor. For both performers and music lovers\, it offers an authentic and rewarding night out. \nFor more live music check out Berkshireartistree.co.uk/live-music-events/
URL:https://berkshireartistree.co.uk/live-music-event/open-mic-in-windsor-vansittart-arms/2026-05-05/
LOCATION:The Vansittart Arms\, Windsor\, 105 Vansittart Rd\, Windsor\, SL4 5DD\, United Kingdom
CATEGORIES:Open mic
ATTACH;FMTTYPE=image/jpeg:https://berkshireartistree.co.uk/wp-content/uploads/2024/04/Vansittart-Arms_open-mic_Berkshire-Artistree.jpeg
END:VEVENT
BEGIN:VEVENT
DTSTART;TZID=UTC:20260512T203000
DTEND;TZID=UTC:20260512T223000
DTSTAMP:20260423T191645
CREATED:20260325T131750Z
LAST-MODIFIED:20260325T141648Z
UID:10009750-1778617800-1778625000@berkshireartistree.co.uk
SUMMARY:Open Mic In Windsor | Vansittart Arms
DESCRIPTION:Open mic night at The Vansittart Arms Windsor\, hosted by Damian Delahunty\, offers a welcoming stage for emerging and seasoned performers in a relaxed\, community-driven setting. \nKey Points➖ Hosted by Damian Delahunty\, known for running engaging local open mic nights➖ Open to musicians\, singers\, and acoustic performers of all levels➖ Supportive audience encouraging new material and experimentation➖ Intimate pub setting perfect for stripped-back live sets➖ Strong community feel with opportunities to connect and collaborate \nOpen Mic at The Vansittart Arms Windsor\nThe Open Mic at The Vansittart Arms Windsor stands out as a vibrant grassroots music night\, guided by the experienced hand of Damian Delahunty. His approach creates a smooth\, inclusive evening where performers feel supported from the moment they step up. As a result\, the night flows naturally\, balancing fresh talent with more confident acts. \nEach session delivers a diverse mix of sounds\, from acoustic originals to crowd-pleasing covers\, giving the audience something new to enjoy throughout. Because of this variety\, the event keeps a lively pace while maintaining a relaxed\, easy-going charm. Performers benefit from an attentive crowd\, which helps build confidence and encourages creative expression. \nThe venue itself enhances the experience. With its cosy layout and welcoming atmosphere\, it fosters a close connection between artist and audience\, making every performance feel personal. Guests can settle in and enjoy the ambience while discovering emerging local talent. \nUltimately\, this is more than just an open mic. It’s a community-led live music experience that celebrates creativity and connection in Windsor. For both performers and music lovers\, it offers an authentic and rewarding night out. \nFor more live music check out Berkshireartistree.co.uk/live-music-events/
URL:https://berkshireartistree.co.uk/live-music-event/open-mic-in-windsor-vansittart-arms/2026-05-12/
LOCATION:The Vansittart Arms\, Windsor\, 105 Vansittart Rd\, Windsor\, SL4 5DD\, United Kingdom
CATEGORIES:Open mic
ATTACH;FMTTYPE=image/jpeg:https://berkshireartistree.co.uk/wp-content/uploads/2024/04/Vansittart-Arms_open-mic_Berkshire-Artistree.jpeg
END:VEVENT
BEGIN:VEVENT
DTSTART;TZID=UTC:20260519T203000
DTEND;TZID=UTC:20260519T223000
DTSTAMP:20260423T191645
CREATED:20260325T131750Z
LAST-MODIFIED:20260325T141648Z
UID:10009751-1779222600-1779229800@berkshireartistree.co.uk
SUMMARY:Open Mic In Windsor | Vansittart Arms
DESCRIPTION:Open mic night at The Vansittart Arms Windsor\, hosted by Damian Delahunty\, offers a welcoming stage for emerging and seasoned performers in a relaxed\, community-driven setting. \nKey Points➖ Hosted by Damian Delahunty\, known for running engaging local open mic nights➖ Open to musicians\, singers\, and acoustic performers of all levels➖ Supportive audience encouraging new material and experimentation➖ Intimate pub setting perfect for stripped-back live sets➖ Strong community feel with opportunities to connect and collaborate \nOpen Mic at The Vansittart Arms Windsor\nThe Open Mic at The Vansittart Arms Windsor stands out as a vibrant grassroots music night\, guided by the experienced hand of Damian Delahunty. His approach creates a smooth\, inclusive evening where performers feel supported from the moment they step up. As a result\, the night flows naturally\, balancing fresh talent with more confident acts. \nEach session delivers a diverse mix of sounds\, from acoustic originals to crowd-pleasing covers\, giving the audience something new to enjoy throughout. Because of this variety\, the event keeps a lively pace while maintaining a relaxed\, easy-going charm. Performers benefit from an attentive crowd\, which helps build confidence and encourages creative expression. \nThe venue itself enhances the experience. With its cosy layout and welcoming atmosphere\, it fosters a close connection between artist and audience\, making every performance feel personal. Guests can settle in and enjoy the ambience while discovering emerging local talent. \nUltimately\, this is more than just an open mic. It’s a community-led live music experience that celebrates creativity and connection in Windsor. For both performers and music lovers\, it offers an authentic and rewarding night out. \nFor more live music check out Berkshireartistree.co.uk/live-music-events/
URL:https://berkshireartistree.co.uk/live-music-event/open-mic-in-windsor-vansittart-arms/2026-05-19/
LOCATION:The Vansittart Arms\, Windsor\, 105 Vansittart Rd\, Windsor\, SL4 5DD\, United Kingdom
CATEGORIES:Open mic
ATTACH;FMTTYPE=image/jpeg:https://berkshireartistree.co.uk/wp-content/uploads/2024/04/Vansittart-Arms_open-mic_Berkshire-Artistree.jpeg
END:VEVENT
BEGIN:VEVENT
DTSTART;TZID=UTC:20260526T203000
DTEND;TZID=UTC:20260526T223000
DTSTAMP:20260423T191645
CREATED:20260325T131750Z
LAST-MODIFIED:20260325T141648Z
UID:10009752-1779827400-1779834600@berkshireartistree.co.uk
SUMMARY:Open Mic In Windsor | Vansittart Arms
DESCRIPTION:Open mic night at The Vansittart Arms Windsor\, hosted by Damian Delahunty\, offers a welcoming stage for emerging and seasoned performers in a relaxed\, community-driven setting. \nKey Points➖ Hosted by Damian Delahunty\, known for running engaging local open mic nights➖ Open to musicians\, singers\, and acoustic performers of all levels➖ Supportive audience encouraging new material and experimentation➖ Intimate pub setting perfect for stripped-back live sets➖ Strong community feel with opportunities to connect and collaborate \nOpen Mic at The Vansittart Arms Windsor\nThe Open Mic at The Vansittart Arms Windsor stands out as a vibrant grassroots music night\, guided by the experienced hand of Damian Delahunty. His approach creates a smooth\, inclusive evening where performers feel supported from the moment they step up. As a result\, the night flows naturally\, balancing fresh talent with more confident acts. \nEach session delivers a diverse mix of sounds\, from acoustic originals to crowd-pleasing covers\, giving the audience something new to enjoy throughout. Because of this variety\, the event keeps a lively pace while maintaining a relaxed\, easy-going charm. Performers benefit from an attentive crowd\, which helps build confidence and encourages creative expression. \nThe venue itself enhances the experience. With its cosy layout and welcoming atmosphere\, it fosters a close connection between artist and audience\, making every performance feel personal. Guests can settle in and enjoy the ambience while discovering emerging local talent. \nUltimately\, this is more than just an open mic. It’s a community-led live music experience that celebrates creativity and connection in Windsor. For both performers and music lovers\, it offers an authentic and rewarding night out. \nFor more live music check out Berkshireartistree.co.uk/live-music-events/
URL:https://berkshireartistree.co.uk/live-music-event/open-mic-in-windsor-vansittart-arms/2026-05-26/
LOCATION:The Vansittart Arms\, Windsor\, 105 Vansittart Rd\, Windsor\, SL4 5DD\, United Kingdom
CATEGORIES:Open mic
ATTACH;FMTTYPE=image/jpeg:https://berkshireartistree.co.uk/wp-content/uploads/2024/04/Vansittart-Arms_open-mic_Berkshire-Artistree.jpeg
END:VEVENT
BEGIN:VEVENT
DTSTART;TZID=UTC:20260602T203000
DTEND;TZID=UTC:20260602T223000
DTSTAMP:20260423T191645
CREATED:20260325T131750Z
LAST-MODIFIED:20260325T141648Z
UID:10009753-1780432200-1780439400@berkshireartistree.co.uk
SUMMARY:Open Mic In Windsor | Vansittart Arms
DESCRIPTION:Open mic night at The Vansittart Arms Windsor\, hosted by Damian Delahunty\, offers a welcoming stage for emerging and seasoned performers in a relaxed\, community-driven setting. \nKey Points➖ Hosted by Damian Delahunty\, known for running engaging local open mic nights➖ Open to musicians\, singers\, and acoustic performers of all levels➖ Supportive audience encouraging new material and experimentation➖ Intimate pub setting perfect for stripped-back live sets➖ Strong community feel with opportunities to connect and collaborate \nOpen Mic at The Vansittart Arms Windsor\nThe Open Mic at The Vansittart Arms Windsor stands out as a vibrant grassroots music night\, guided by the experienced hand of Damian Delahunty. His approach creates a smooth\, inclusive evening where performers feel supported from the moment they step up. As a result\, the night flows naturally\, balancing fresh talent with more confident acts. \nEach session delivers a diverse mix of sounds\, from acoustic originals to crowd-pleasing covers\, giving the audience something new to enjoy throughout. Because of this variety\, the event keeps a lively pace while maintaining a relaxed\, easy-going charm. Performers benefit from an attentive crowd\, which helps build confidence and encourages creative expression. \nThe venue itself enhances the experience. With its cosy layout and welcoming atmosphere\, it fosters a close connection between artist and audience\, making every performance feel personal. Guests can settle in and enjoy the ambience while discovering emerging local talent. \nUltimately\, this is more than just an open mic. It’s a community-led live music experience that celebrates creativity and connection in Windsor. For both performers and music lovers\, it offers an authentic and rewarding night out. \nFor more live music check out Berkshireartistree.co.uk/live-music-events/
URL:https://berkshireartistree.co.uk/live-music-event/open-mic-in-windsor-vansittart-arms/2026-06-02/
LOCATION:The Vansittart Arms\, Windsor\, 105 Vansittart Rd\, Windsor\, SL4 5DD\, United Kingdom
CATEGORIES:Open mic
ATTACH;FMTTYPE=image/jpeg:https://berkshireartistree.co.uk/wp-content/uploads/2024/04/Vansittart-Arms_open-mic_Berkshire-Artistree.jpeg
END:VEVENT
BEGIN:VEVENT
DTSTART;TZID=UTC:20260609T203000
DTEND;TZID=UTC:20260609T223000
DTSTAMP:20260423T191645
CREATED:20260325T131750Z
LAST-MODIFIED:20260325T141648Z
UID:10009754-1781037000-1781044200@berkshireartistree.co.uk
SUMMARY:Open Mic In Windsor | Vansittart Arms
DESCRIPTION:Open mic night at The Vansittart Arms Windsor\, hosted by Damian Delahunty\, offers a welcoming stage for emerging and seasoned performers in a relaxed\, community-driven setting. \nKey Points➖ Hosted by Damian Delahunty\, known for running engaging local open mic nights➖ Open to musicians\, singers\, and acoustic performers of all levels➖ Supportive audience encouraging new material and experimentation➖ Intimate pub setting perfect for stripped-back live sets➖ Strong community feel with opportunities to connect and collaborate \nOpen Mic at The Vansittart Arms Windsor\nThe Open Mic at The Vansittart Arms Windsor stands out as a vibrant grassroots music night\, guided by the experienced hand of Damian Delahunty. His approach creates a smooth\, inclusive evening where performers feel supported from the moment they step up. As a result\, the night flows naturally\, balancing fresh talent with more confident acts. \nEach session delivers a diverse mix of sounds\, from acoustic originals to crowd-pleasing covers\, giving the audience something new to enjoy throughout. Because of this variety\, the event keeps a lively pace while maintaining a relaxed\, easy-going charm. Performers benefit from an attentive crowd\, which helps build confidence and encourages creative expression. \nThe venue itself enhances the experience. With its cosy layout and welcoming atmosphere\, it fosters a close connection between artist and audience\, making every performance feel personal. Guests can settle in and enjoy the ambience while discovering emerging local talent. \nUltimately\, this is more than just an open mic. It’s a community-led live music experience that celebrates creativity and connection in Windsor. For both performers and music lovers\, it offers an authentic and rewarding night out. \nFor more live music check out Berkshireartistree.co.uk/live-music-events/
URL:https://berkshireartistree.co.uk/live-music-event/open-mic-in-windsor-vansittart-arms/2026-06-09/
LOCATION:The Vansittart Arms\, Windsor\, 105 Vansittart Rd\, Windsor\, SL4 5DD\, United Kingdom
CATEGORIES:Open mic
ATTACH;FMTTYPE=image/jpeg:https://berkshireartistree.co.uk/wp-content/uploads/2024/04/Vansittart-Arms_open-mic_Berkshire-Artistree.jpeg
END:VEVENT
BEGIN:VEVENT
DTSTART;TZID=UTC:20260616T203000
DTEND;TZID=UTC:20260616T223000
DTSTAMP:20260423T191645
CREATED:20260325T131750Z
LAST-MODIFIED:20260325T141648Z
UID:10009755-1781641800-1781649000@berkshireartistree.co.uk
SUMMARY:Open Mic In Windsor | Vansittart Arms
DESCRIPTION:Open mic night at The Vansittart Arms Windsor\, hosted by Damian Delahunty\, offers a welcoming stage for emerging and seasoned performers in a relaxed\, community-driven setting. \nKey Points➖ Hosted by Damian Delahunty\, known for running engaging local open mic nights➖ Open to musicians\, singers\, and acoustic performers of all levels➖ Supportive audience encouraging new material and experimentation➖ Intimate pub setting perfect for stripped-back live sets➖ Strong community feel with opportunities to connect and collaborate \nOpen Mic at The Vansittart Arms Windsor\nThe Open Mic at The Vansittart Arms Windsor stands out as a vibrant grassroots music night\, guided by the experienced hand of Damian Delahunty. His approach creates a smooth\, inclusive evening where performers feel supported from the moment they step up. As a result\, the night flows naturally\, balancing fresh talent with more confident acts. \nEach session delivers a diverse mix of sounds\, from acoustic originals to crowd-pleasing covers\, giving the audience something new to enjoy throughout. Because of this variety\, the event keeps a lively pace while maintaining a relaxed\, easy-going charm. Performers benefit from an attentive crowd\, which helps build confidence and encourages creative expression. \nThe venue itself enhances the experience. With its cosy layout and welcoming atmosphere\, it fosters a close connection between artist and audience\, making every performance feel personal. Guests can settle in and enjoy the ambience while discovering emerging local talent. \nUltimately\, this is more than just an open mic. It’s a community-led live music experience that celebrates creativity and connection in Windsor. For both performers and music lovers\, it offers an authentic and rewarding night out. \nFor more live music check out Berkshireartistree.co.uk/live-music-events/
URL:https://berkshireartistree.co.uk/live-music-event/open-mic-in-windsor-vansittart-arms/2026-06-16/
LOCATION:The Vansittart Arms\, Windsor\, 105 Vansittart Rd\, Windsor\, SL4 5DD\, United Kingdom
CATEGORIES:Open mic
ATTACH;FMTTYPE=image/jpeg:https://berkshireartistree.co.uk/wp-content/uploads/2024/04/Vansittart-Arms_open-mic_Berkshire-Artistree.jpeg
END:VEVENT
BEGIN:VEVENT
DTSTART;TZID=UTC:20260623T203000
DTEND;TZID=UTC:20260623T223000
DTSTAMP:20260423T191645
CREATED:20260325T131750Z
LAST-MODIFIED:20260325T141648Z
UID:10009756-1782246600-1782253800@berkshireartistree.co.uk
SUMMARY:Open Mic In Windsor | Vansittart Arms
DESCRIPTION:Open mic night at The Vansittart Arms Windsor\, hosted by Damian Delahunty\, offers a welcoming stage for emerging and seasoned performers in a relaxed\, community-driven setting. \nKey Points➖ Hosted by Damian Delahunty\, known for running engaging local open mic nights➖ Open to musicians\, singers\, and acoustic performers of all levels➖ Supportive audience encouraging new material and experimentation➖ Intimate pub setting perfect for stripped-back live sets➖ Strong community feel with opportunities to connect and collaborate \nOpen Mic at The Vansittart Arms Windsor\nThe Open Mic at The Vansittart Arms Windsor stands out as a vibrant grassroots music night\, guided by the experienced hand of Damian Delahunty. His approach creates a smooth\, inclusive evening where performers feel supported from the moment they step up. As a result\, the night flows naturally\, balancing fresh talent with more confident acts. \nEach session delivers a diverse mix of sounds\, from acoustic originals to crowd-pleasing covers\, giving the audience something new to enjoy throughout. Because of this variety\, the event keeps a lively pace while maintaining a relaxed\, easy-going charm. Performers benefit from an attentive crowd\, which helps build confidence and encourages creative expression. \nThe venue itself enhances the experience. With its cosy layout and welcoming atmosphere\, it fosters a close connection between artist and audience\, making every performance feel personal. Guests can settle in and enjoy the ambience while discovering emerging local talent. \nUltimately\, this is more than just an open mic. It’s a community-led live music experience that celebrates creativity and connection in Windsor. For both performers and music lovers\, it offers an authentic and rewarding night out. \nFor more live music check out Berkshireartistree.co.uk/live-music-events/
URL:https://berkshireartistree.co.uk/live-music-event/open-mic-in-windsor-vansittart-arms/2026-06-23/
LOCATION:The Vansittart Arms\, Windsor\, 105 Vansittart Rd\, Windsor\, SL4 5DD\, United Kingdom
CATEGORIES:Open mic
ATTACH;FMTTYPE=image/jpeg:https://berkshireartistree.co.uk/wp-content/uploads/2024/04/Vansittart-Arms_open-mic_Berkshire-Artistree.jpeg
END:VEVENT
END:VCALENDAR